BEGIN:VCALENDAR
VERSION:2.0
PRODID:-//Luxe in the D - ECPv6.15.18//NONSGML v1.0//EN
CALSCALE:GREGORIAN
METHOD:PUBLISH
X-ORIGINAL-URL:https://luxeinthed.com
X-WR-CALDESC:Events for Luxe in the D
REFRESH-INTERVAL;VALUE=DURATION:PT1H
X-Robots-Tag:noindex
X-PUBLISHED-TTL:PT1H
BEGIN:VTIMEZONE
TZID:America/Detroit
BEGIN:DAYLIGHT
TZOFFSETFROM:-0500
TZOFFSETTO:-0400
TZNAME:EDT
DTSTART:20240310T070000
END:DAYLIGHT
BEGIN:STANDARD
TZOFFSETFROM:-0400
TZOFFSETTO:-0500
TZNAME:EST
DTSTART:20241103T060000
END:STANDARD
BEGIN:DAYLIGHT
TZOFFSETFROM:-0500
TZOFFSETTO:-0400
TZNAME:EDT
DTSTART:20250309T070000
END:DAYLIGHT
BEGIN:STANDARD
TZOFFSETFROM:-0400
TZOFFSETTO:-0500
TZNAME:EST
DTSTART:20251102T060000
END:STANDARD
BEGIN:DAYLIGHT
TZOFFSETFROM:-0500
TZOFFSETTO:-0400
TZNAME:EDT
DTSTART:20260308T070000
END:DAYLIGHT
BEGIN:STANDARD
TZOFFSETFROM:-0400
TZOFFSETTO:-0500
TZNAME:EST
DTSTART:20261101T060000
END:STANDARD
END:VTIMEZONE
BEGIN:VEVENT
DTSTART;TZID=America/Detroit:20251010T160000
DTEND;TZID=America/Detroit:20251012T213000
DTSTAMP:20260420T023435
CREATED:20251008T155707Z
LAST-MODIFIED:20251008T224933Z
UID:4606-1760112000-1760304600@luxeinthed.com
SUMMARY:Zoo Boo at the Detroit Zoo 2025
DESCRIPTION:A merry-not-scary Halloween adventure for kids of all ages. \nZoo Boo at the Detroit Zoo is back for another season of family-friendly Halloween fun! This beloved Detroit tradition transforms the zoo into a magical\, not-too-spooky wonderland filled with trick-or-treating\, themed entertainment\, and glowing pumpkin trails. \nFamilies can stroll through festively decorated pathways\, visit the Haunted Reptile House\, and enjoy live entertainment\, pumpkin carving demonstrations\, and interactive experiences designed for kids of all ages. Costumed characters\, photo ops\, and treat stations line the paths\, creating a safe\, outdoor experience that’s as sweet as it is memorable. \nBring your little ghosts\, superheroes\, and princesses for a night of laughter\, lights\, and lions under the autumn sky — all while supporting wildlife conservation and the Detroit Zoo’s community initiatives. \n📍 Location: Detroit Zoo\, 8450 W 10 Mile Rd\, Royal Oak\, MI 48067\n🧛‍♀️ Theme: Family-Friendly Halloween / Trick-or-Treat Trail\n🍸 Drinks: Seasonal cider\, cocoa & snack stands throughout the zoo (additional cost)\n🅿️ Parking: Complimentary parking included with event ticket\n🎭 Dress Code: Costumes encouraged (non-scary / family appropriate)\n🎟️ Ticket Price Range: $21 – $25 (advance tickets required); Members receive 10% off\n🕯️ Event Details: Runs rain or shine; ticketed entry only\n👤 Ages: Ideal for ages 2–12\, but fun for the entire family\n♿ Accessibility: The Detroit Zoo is fully ADA accessible \nBuy Tickets on Detroit Zoo \nExplore more Family-Friendly  on Luxe in the D.
URL:https://luxeinthed.com/event/zoo-boo-detroit-2025/
LOCATION:Detroit Zoo\, 8450 W 10 Mile Rd\, Royal Oak\, MI\, 48067\, United States
CATEGORIES:Family Fun,Seasonal Event
ATTACH;FMTTYPE=image/png:https://luxeinthed.com/wp-content/uploads/2025/10/Events-Photos-2.png
END:VEVENT
BEGIN:VEVENT
DTSTART;TZID=America/Detroit:20251017T160000
DTEND;TZID=America/Detroit:20251019T213000
DTSTAMP:20260420T023435
CREATED:20251008T155936Z
LAST-MODIFIED:20251008T225453Z
UID:4612-1760716800-1760909400@luxeinthed.com
SUMMARY:Zoo Boo at the Detroit Zoo 2025
DESCRIPTION:A merry-not-scary Halloween adventure for kids of all ages. \nZoo Boo at the Detroit Zoo is back for another season of family-friendly Halloween fun! This beloved Detroit tradition transforms the zoo into a magical\, not-too-spooky wonderland filled with trick-or-treating\, themed entertainment\, and glowing pumpkin trails. \nFamilies can stroll through festively decorated pathways\, visit the Haunted Reptile House\, and enjoy live entertainment\, pumpkin carving demonstrations\, and interactive experiences designed for kids of all ages. Costumed characters\, photo ops\, and treat stations line the paths\, creating a safe\, outdoor experience that’s as sweet as it is memorable. \nBring your little ghosts\, superheroes\, and princesses for a night of laughter\, lights\, and lions under the autumn sky — all while supporting wildlife conservation and the Detroit Zoo’s community initiatives. \n📍 Location: Detroit Zoo\, 8450 W 10 Mile Rd\, Royal Oak\, MI 48067\n🧛‍♀️ Theme: Family-Friendly Halloween / Trick-or-Treat Trail\n🍸 Drinks: Seasonal cider\, cocoa & snack stands throughout the zoo (additional cost)\n🅿️ Parking: Complimentary parking included with event ticket\n🎭 Dress Code: Costumes encouraged (non-scary / family appropriate)\n🎟️ Ticket Price Range: $21 – $25 (advance tickets required); Members receive 10% off\n🕯️ Event Details: Runs rain or shine; ticketed entry only\n👤 Ages: Ideal for ages 2–12\, but fun for the entire family\n♿ Accessibility: The Detroit Zoo is fully ADA accessible \n👉 Buy Tickets on Detroit Zoo✨ Explore more Family-Friendly  on Luxe in the D.
URL:https://luxeinthed.com/event/zoo-boo-at-the-detroit-zoo-2025/
LOCATION:Detroit Zoo\, 8450 W 10 Mile Rd\, Royal Oak\, MI\, 48067\, United States
CATEGORIES:Family Fun,Festivals,Seasonal Event
ATTACH;FMTTYPE=image/png:https://luxeinthed.com/wp-content/uploads/2025/10/Events-Photos-2.png
END:VEVENT
BEGIN:VEVENT
DTSTART;TZID=America/Detroit:20251024T160000
DTEND;TZID=America/Detroit:20251026T213000
DTSTAMP:20260420T023435
CREATED:20251008T160050Z
LAST-MODIFIED:20251008T230849Z
UID:4614-1761321600-1761514200@luxeinthed.com
SUMMARY:Zoo Boo at the Detroit Zoo 2025
DESCRIPTION:A merry-not-scary Halloween adventure for kids of all ages. \nZoo Boo at the Detroit Zoo returns for another season of family-friendly Halloween fun! This beloved Detroit tradition transforms the zoo into a magical\, not-too-spooky wonderland filled with trick-or-treating\, themed entertainment\, and glowing pumpkin trails. \nFamilies can stroll through festively decorated pathways\, visit the “Haunted Reptile House\,” and enjoy live entertainment\, pumpkin carving demonstrations\, and interactive experiences designed for kids of all ages. Costumed characters\, photo ops\, and treat stations line the paths — creating a safe\, outdoor experience that’s as sweet as it is memorable. \nBring your little ghosts\, superheroes\, and princesses for a night of laughter\, lights\, and lions under the autumn sky — all while supporting wildlife conservation and the Detroit Zoo’s community initiatives. \n📍 Location: Detroit Zoo\, 8450 W 10 Mile Rd\, Royal Oak\, MI 48067\n🧛‍♀️ Theme: Family-Friendly Halloween / Trick-or-Treat Trail\n🍸 Drinks & Treats: Seasonal cider\, cocoa & snack stands throughout the zoo (additional cost)\n🅿️ Parking: Complimentary parking included with event ticket\n🎭 Dress Code: Costumes encouraged (non-scary / family appropriate)\n🎟️ Ticket Price Range: $21 – $25 (advance tickets required); Members receive 10% off\n🕯️ Event Details: Runs rain or shine; ticketed entry only\n👤 Ages: Ideal for ages 2–12\, but fun for the entire family\n♿ Accessibility: The Detroit Zoo is fully ADA accessible \n👉 Buy Tickets on Detroit Zoo✨ Explore more Family-Friendly  on Luxe in the D.
URL:https://luxeinthed.com/event/zoo-boo-at-the-detroit-zoo-2025-2/
LOCATION:Detroit Zoo\, 8450 W 10 Mile Rd\, Royal Oak\, MI\, 48067\, United States
CATEGORIES:Family Fun,Festivals,Seasonal Event
ATTACH;FMTTYPE=image/png:https://luxeinthed.com/wp-content/uploads/2025/10/Events-Photos-2.png
END:VEVENT
BEGIN:VEVENT
DTSTART;TZID=America/Detroit:20251025T110000
DTEND;TZID=America/Detroit:20251025T150000
DTSTAMP:20260420T023435
CREATED:20251008T184404Z
LAST-MODIFIED:20251008T231720Z
UID:4655-1761390000-1761404400@luxeinthed.com
SUMMARY:Little Goblins | Ford House
DESCRIPTION:A picture-perfect Halloween adventure by the lake! \nBring your little ones to Little Goblins at Ford House for a magical daytime Halloween celebration! This family-friendly event invites kids to trick-or-treat along a decorated trail\, play festive lawn games\, and explore a mini straw maze designed just for younger children. \nEnjoy hayrides through the scenic grounds and finish the afternoon with classic fall treats — warm cider and donuts. It’s a cozy\, lighthearted way to celebrate Halloween by the lake with family and friends. \n📍 Location: Ford House\, 1100 Lake Shore Road\, Grosse Pointe Shores\, MI 48236\n🕓 Date & Time: Saturday\, Oct. 25\, 2025 · 11 a.m.–3 p.m.\n🎟️ Ticket Price Range: Adults $5–$8 · Children (ages 3–17) $15–$20 · Children 2 and under free\n🎃 Theme: Family-Friendly Halloween Trail / Outdoor Fall Fun\n🍎 Drinks & Treats: Cider & donuts served at hayride’s end\n🪵 Activities: Trick-or-treat trail · Hayride · Straw maze · Lawn games\n🅿️ Parking: On-site parking available for registered guests\n👗 Dress Code: Costumes encouraged for all ages\n👶 Best For: Ages 2–10 · Family-friendly daytime event\n📝 Registration: Required in advance — tickets often sell out! \n🎟️ Register at Ford House
URL:https://luxeinthed.com/event/little-goblins-ford-house/
LOCATION:Ford House\, 1100 Lake Shore Road\, Gross Pointe\, MI\, 48236\, United States
CATEGORIES:Arts & Culture,Family Fun,Seasonal Event
ATTACH;FMTTYPE=image/jpeg:https://luxeinthed.com/wp-content/uploads/2025/10/maxresdefault.jpg
END:VEVENT
END:VCALENDAR