BEGIN:VCALENDAR
VERSION:2.0
PRODID:-//Luxe in the D - ECPv6.15.18//NONSGML v1.0//EN
CALSCALE:GREGORIAN
METHOD:PUBLISH
X-WR-CALNAME:Luxe in the D
X-ORIGINAL-URL:https://luxeinthed.com
X-WR-CALDESC:Events for Luxe in the D
REFRESH-INTERVAL;VALUE=DURATION:PT1H
X-Robots-Tag:noindex
X-PUBLISHED-TTL:PT1H
BEGIN:VTIMEZONE
TZID:America/Detroit
BEGIN:DAYLIGHT
TZOFFSETFROM:-0500
TZOFFSETTO:-0400
TZNAME:EDT
DTSTART:20240310T070000
END:DAYLIGHT
BEGIN:STANDARD
TZOFFSETFROM:-0400
TZOFFSETTO:-0500
TZNAME:EST
DTSTART:20241103T060000
END:STANDARD
BEGIN:DAYLIGHT
TZOFFSETFROM:-0500
TZOFFSETTO:-0400
TZNAME:EDT
DTSTART:20250309T070000
END:DAYLIGHT
BEGIN:STANDARD
TZOFFSETFROM:-0400
TZOFFSETTO:-0500
TZNAME:EST
DTSTART:20251102T060000
END:STANDARD
BEGIN:DAYLIGHT
TZOFFSETFROM:-0500
TZOFFSETTO:-0400
TZNAME:EDT
DTSTART:20260308T070000
END:DAYLIGHT
BEGIN:STANDARD
TZOFFSETFROM:-0400
TZOFFSETTO:-0500
TZNAME:EST
DTSTART:20261101T060000
END:STANDARD
END:VTIMEZONE
BEGIN:VEVENT
DTSTART;TZID=America/Detroit:20251009T180000
DTEND;TZID=America/Detroit:20251012T220000
DTSTAMP:20260419T204852
CREATED:20251008T162731Z
LAST-MODIFIED:20251008T224725Z
UID:4616-1760032800-1760306400@luxeinthed.com
SUMMARY:Hallowe’en in Greenfield Village 2025
DESCRIPTION:Experience Hallowe’en in Greenfield Village \nHallowe’en in Greenfield Village 2025 brings the magic of Michigan’s favorite fall celebration to life with lantern-lit paths\, glowing pumpkins\, and costumed characters that capture the spirit of an old-fashioned Halloween. Hosted by The Henry Ford\, this enchanting event blends history\, whimsy\, and autumn tradition for guests of all ages. \nStep back in time as more than 1\,000 hand-carved pumpkins light the way through Greenfield Village. Meet classic storybook characters\, enjoy live music\, watch pumpkin carving demonstrations\, and take a ride on the Hallowe’en Express. Families can sip hot cider\, sample seasonal treats\, and admire historic homes decked out for the season — all within one of Metro Detroit’s most iconic destinations. \nEach October weekend\, The Henry Ford transforms into a living storybook filled with glowing lanterns\, horse-drawn wagons\, and the famous Headless Horseman riding through the village green. It’s a delightful blend of cozy nostalgia and playful chills — where history and Halloween meet under the autumn sky. \n📍 Location: The Henry Ford – Greenfield Village\, 20900 Oakwood Blvd\, Dearborn\, MI 48124\n🧛‍♀️ Theme: Historic Halloween / Family Fall Festival\n🍸 Drinks: Hot cider\, cocoa\, and seasonal beverages available\n🅿️ Parking: Complimentary with event ticket\n🎭 Dress Code: Family-friendly costumes encouraged\n🎟️ Ticket Price Range: $24 – $43 (member discounts available)\n🕯️ Event Details: Runs rain or shine; advance tickets recommended\n👤 Ages: Ideal for families and children ages 2–12\n♿ Accessibility: Fully ADA accessible; wheelchair-friendly paths throughout \n🎟️ Purchase Tickets: Available at The Henry Ford’s official website
URL:https://luxeinthed.com/event/halloween-in-greenfield-village-2025/
LOCATION:The Henry Ford\, 20900 Oakwood Blvd\, Dearborn\, MI\, 48124\, United States
CATEGORIES:Family Fun,Seasonal Event
ATTACH;FMTTYPE=image/png:https://luxeinthed.com/wp-content/uploads/2025/10/Events-Photos-3.png
END:VEVENT
END:VCALENDAR