BEGIN:VCALENDAR
VERSION:2.0
PRODID:-//Luxe in the D - ECPv6.15.18//NONSGML v1.0//EN
CALSCALE:GREGORIAN
METHOD:PUBLISH
X-WR-CALNAME:Luxe in the D
X-ORIGINAL-URL:https://luxeinthed.com
X-WR-CALDESC:Events for Luxe in the D
REFRESH-INTERVAL;VALUE=DURATION:PT1H
X-Robots-Tag:noindex
X-PUBLISHED-TTL:PT1H
BEGIN:VTIMEZONE
TZID:America/Detroit
BEGIN:DAYLIGHT
TZOFFSETFROM:-0500
TZOFFSETTO:-0400
TZNAME:EDT
DTSTART:20240310T070000
END:DAYLIGHT
BEGIN:STANDARD
TZOFFSETFROM:-0400
TZOFFSETTO:-0500
TZNAME:EST
DTSTART:20241103T060000
END:STANDARD
BEGIN:DAYLIGHT
TZOFFSETFROM:-0500
TZOFFSETTO:-0400
TZNAME:EDT
DTSTART:20250309T070000
END:DAYLIGHT
BEGIN:STANDARD
TZOFFSETFROM:-0400
TZOFFSETTO:-0500
TZNAME:EST
DTSTART:20251102T060000
END:STANDARD
BEGIN:DAYLIGHT
TZOFFSETFROM:-0500
TZOFFSETTO:-0400
TZNAME:EDT
DTSTART:20260308T070000
END:DAYLIGHT
BEGIN:STANDARD
TZOFFSETFROM:-0400
TZOFFSETTO:-0500
TZNAME:EST
DTSTART:20261101T060000
END:STANDARD
END:VTIMEZONE
BEGIN:VEVENT
DTSTART;TZID=America/Detroit:20251026T100000
DTEND;TZID=America/Detroit:20251026T140000
DTSTAMP:20260424T173050
CREATED:20251008T180503Z
LAST-MODIFIED:20251008T232400Z
UID:4643-1761472800-1761487200@luxeinthed.com
SUMMARY:Meadow Brook Hall-oween 2025
DESCRIPTION:A magical trick-or-treat adventure through history and fall splendor. \nCelebrate Halloween in grand style at Meadow Brook Hall-oween 2025\, where families can enjoy a one-of-a-kind trick-or-treat experience across the breathtaking Meadow Brook estate. Guests are invited to explore the woodland paths and tour the first floor of the historic mansion\, filled with festive décor and family-friendly fun. \nKids are encouraged to wear costumes while collecting treats throughout the grounds. Inside the heated Garden Tent\, families can unwind with cider and donuts\, crafts\, and games — all while listening to enchanting stories about local Halloween traditions. This charming event perfectly blends spooky fun with history and elegance\, making it a fall favorite for Metro Detroit families. \n📍 Location: Meadow Brook Hall\, 350 Estate Drive\, Rochester\, MI 48309\n🧛‍♀️ Theme: Historic Halloween / Trick-or-Treat at the Mansion\n🍸 Drinks & Treats: Fresh cider and donuts available inside the Garden Tent (for purchase)\n🅿️ Parking: Free on-site parking\n🎭 Dress Code: Family-friendly costumes encouraged\n🎟️ Ticket Price Range: $9 – $20 | Youth (3 – 12) $20 / Members $18 · Adults (13 +) $10 / Members $9 · Children under 3 free\n🕒 Event Date: Sunday\, October 26\, 2025 | Timed entry at 10 a.m.\, 11 a.m.\, 12 p.m.\, 1 p.m.\, and 2 p.m.\n👤 Perfect For: Families with kids · History lovers · Fall photo ops\n♿ Accessibility: Wheelchair accessible on main paths; assistance available upon request \nPlease note: some time slots for 2025 are currently sold out\, but you can join the waitlist. \nView Event Details at MeadowBrookHall.orgExplore more Family-Friendly Halloween Events in Metro Detroit
URL:https://luxeinthed.com/event/meadow-brook-hall-oween-2025/
LOCATION:Meadow Brook\, 350 Estate Drive\, Rochester\, MI\, 48309\, United States
CATEGORIES:Arts & Culture,Family Fun,Seasonal Event
ATTACH;FMTTYPE=image/png:https://luxeinthed.com/wp-content/uploads/2025/10/Events-Photos-7.png
END:VEVENT
END:VCALENDAR