BEGIN:VCALENDAR
VERSION:2.0
PRODID:-//Luxe in the D - ECPv6.15.18//NONSGML v1.0//EN
CALSCALE:GREGORIAN
METHOD:PUBLISH
X-ORIGINAL-URL:https://luxeinthed.com
X-WR-CALDESC:Events for Luxe in the D
REFRESH-INTERVAL;VALUE=DURATION:PT1H
X-Robots-Tag:noindex
X-PUBLISHED-TTL:PT1H
BEGIN:VTIMEZONE
TZID:America/Detroit
BEGIN:DAYLIGHT
TZOFFSETFROM:-0500
TZOFFSETTO:-0400
TZNAME:EDT
DTSTART:20240310T070000
END:DAYLIGHT
BEGIN:STANDARD
TZOFFSETFROM:-0400
TZOFFSETTO:-0500
TZNAME:EST
DTSTART:20241103T060000
END:STANDARD
BEGIN:DAYLIGHT
TZOFFSETFROM:-0500
TZOFFSETTO:-0400
TZNAME:EDT
DTSTART:20250309T070000
END:DAYLIGHT
BEGIN:STANDARD
TZOFFSETFROM:-0400
TZOFFSETTO:-0500
TZNAME:EST
DTSTART:20251102T060000
END:STANDARD
BEGIN:DAYLIGHT
TZOFFSETFROM:-0500
TZOFFSETTO:-0400
TZNAME:EDT
DTSTART:20260308T070000
END:DAYLIGHT
BEGIN:STANDARD
TZOFFSETFROM:-0400
TZOFFSETTO:-0500
TZNAME:EST
DTSTART:20261101T060000
END:STANDARD
END:VTIMEZONE
BEGIN:VEVENT
DTSTART;TZID=America/Detroit:20251017T170000
DTEND;TZID=America/Detroit:20251019T220000
DTSTAMP:20260421T204546
CREATED:20251008T171508Z
LAST-MODIFIED:20251008T171508Z
UID:4637-1760720400-1760911200@luxeinthed.com
SUMMARY:Canterbury Village: Halloween Stroll 2025
DESCRIPTION:A magical Halloween walk through glowing lights\, laughter\, and fall fun. \nStep into a glowing Halloween wonderland at the Canterbury Village Halloween Stroll 2025 — one of Michigan’s most beloved family fall traditions. This immersive outdoor experience transforms Lake Orion’s historic Canterbury Village into a dazzling display of lights\, animatronics\, and whimsical Halloween scenes perfect for guests of all ages. \nFamilies can stroll through village pathways lined with jack-o’-lanterns\, friendly characters\, and interactive displays. The atmosphere is festive but never frightening — ideal for younger children. Enjoy cider\, donuts\, and seasonal food as live entertainers\, spooky soundscapes\, and colorful light installations bring the magic of Halloween to life. \n📍 Location: Canterbury Village\, 2325 Joslyn Ct\, Lake Orion\, MI 48360🧛‍♀️ Theme: Glowing Halloween Walk / Family Festival🍸 Drinks: Fresh cider\, donuts\, and food vendors throughout the village for purchase🅿️ Parking: Free on-site parking🎭 Dress Code: Costumes encouraged for all ages🎟️ Ticket Price Range:  $18.99+ (advance purchase online) $25 (at door) | Children under 2 free🕯️ Event Dates: October 3–31\, 2025 (Fridays–Sundays + Oct. 30–31)🕒 Start time: 5:00 PM (strolls continue into the evening)👤 Perfect for families\, kids\, and anyone seeking a fun\, safe Halloween experience.♿ Wheelchair and stroller accessible. \n👉 Buy Tickets at CanterburyVillage.com✨ Explore more Family-Friendly Halloween Events on Luxe in the D.
URL:https://luxeinthed.com/event/canterbury-village-halloween-stroll-2025-2/
LOCATION:Canterbury Village\, 2325 Joslyn Court\, Lake Orion\, MI\, 48360\, United States
CATEGORIES:Family Fun,Seasonal Event
ATTACH;FMTTYPE=image/png:https://luxeinthed.com/wp-content/uploads/2025/10/Events-Photos-6.png
END:VEVENT
END:VCALENDAR