BEGIN:VCALENDAR
VERSION:2.0
PRODID:-//Luxe in the D - ECPv6.15.18//NONSGML v1.0//EN
CALSCALE:GREGORIAN
METHOD:PUBLISH
X-ORIGINAL-URL:https://luxeinthed.com
X-WR-CALDESC:Events for Luxe in the D
REFRESH-INTERVAL;VALUE=DURATION:PT1H
X-Robots-Tag:noindex
X-PUBLISHED-TTL:PT1H
BEGIN:VTIMEZONE
TZID:America/Detroit
BEGIN:DAYLIGHT
TZOFFSETFROM:-0500
TZOFFSETTO:-0400
TZNAME:EDT
DTSTART:20240310T070000
END:DAYLIGHT
BEGIN:STANDARD
TZOFFSETFROM:-0400
TZOFFSETTO:-0500
TZNAME:EST
DTSTART:20241103T060000
END:STANDARD
BEGIN:DAYLIGHT
TZOFFSETFROM:-0500
TZOFFSETTO:-0400
TZNAME:EDT
DTSTART:20250309T070000
END:DAYLIGHT
BEGIN:STANDARD
TZOFFSETFROM:-0400
TZOFFSETTO:-0500
TZNAME:EST
DTSTART:20251102T060000
END:STANDARD
BEGIN:DAYLIGHT
TZOFFSETFROM:-0500
TZOFFSETTO:-0400
TZNAME:EDT
DTSTART:20260308T070000
END:DAYLIGHT
BEGIN:STANDARD
TZOFFSETFROM:-0400
TZOFFSETTO:-0500
TZNAME:EST
DTSTART:20261101T060000
END:STANDARD
END:VTIMEZONE
BEGIN:VEVENT
DTSTART;TZID=America/Detroit:20251018T200000
DTEND;TZID=America/Detroit:20251018T200000
DTSTAMP:20260422T163030
CREATED:20251008T135136Z
LAST-MODIFIED:20251008T230603Z
UID:4579-1760817600-1760817600@luxeinthed.com
SUMMARY:Monster’s Ball Detroit 2025
DESCRIPTION:Detroit’s most glamorous Halloween party returns — where fashion\, fantasy\, and nightlife collide. \nMonsters Ball Detroit 2025 transforms The Russell Event Center into a high-fashion\, high-energy masquerade where performance art meets nightlife. Expect multiple stages\, top DJs\, aerialists\, illusionists\, and dramatic circus visuals — an immersive experience crafted for Detroit’s luxury party crowd. \nThis exclusive 21+ event is the city’s most coveted Halloween ticket and the perfect excuse to go full glam: couture costumes\, masks\, and photo-worthy moments under sweeping lights and pulsing sound. \n🧛‍♀️ Theme: Masquerade / Circus Noir\n🍸 Drinks: VIP bottle service & signature cocktails available\n🅿️ Parking: Valet (event nights) · Nearby paid garages · Limited street parking\n🎭 Costume Policy: Masks or face wear must be removable for ID verification; no weapons or replicas permitted\n🎟️ Ticket Price Range: General Admission $30–$50 · VIP $60–$80 · Ultra VIP $100–$125 (tiered by release)\n🚫 Refund Policy: All sales final; no refunds \nMake it a night in Midtown: pre-game dinner at a Luxe pick nearby. \nThis is Detroit after dark — reimagined. Dazzling\, dramatic\, and unapologetically bold\, Monsters Ball 2025 is the ultimate fusion of art\, fashion\, and fantasy for those who dare to dress to kill.
URL:https://luxeinthed.com/event/monsters-ball-detroit-2025/
LOCATION:The Russell Events Center\, 1600 Clay Street\, Detroit\, MI\, 48211\, United States
CATEGORIES:Festivals,Holiday Event,Live Music
ATTACH;FMTTYPE=image/png:https://luxeinthed.com/wp-content/uploads/2025/10/Monsters-Ball-Detroit-2025.png
END:VEVENT
BEGIN:VEVENT
DTSTART;TZID=America/Detroit:20251024T180000
DTEND;TZID=America/Detroit:20251031T000000
DTSTAMP:20260422T163030
CREATED:20251008T144004Z
LAST-MODIFIED:20251008T231341Z
UID:4593-1761328800-1761868800@luxeinthed.com
SUMMARY:225 Spookeasy Halloween Pop-Up at Atwater Brewery
DESCRIPTION:A Prohibition-style Halloween pop-up where cocktails meet the macabre. \nStep into 225 Spookeasy Detroit\, a limited-time Halloween pop-up bar hidden inside Atwater Brewery — where Prohibition-era vibes collide with eerie sophistication. Inspired by the 1920s underground cocktail culture\, this immersive experience transforms one of Detroit’s most iconic breweries into a dimly lit haunt filled with themed cocktails\, live entertainment\, and spine-chilling décor. \nThe pop-up runs select nights through Halloween\, featuring handcrafted drinks like the “Corpse Reviver No. 2\,” “Witch’s Elixir\,” and “Bloody Sidecar.” Expect candlelit tables\, jazz-inspired beats\, and bartenders dressed straight out of the Roaring Twenties. Every corner of the space exudes ambiance — from velvet drapes and glowing lanterns to vintage glassware and ghostly glamour. \nWhether you’re dressed to kill or channeling Gatsby-era charm\, 225 Spookeasy Detroit delivers an evening of mystery\, music\, and mixology that perfectly balances spooky and luxe. \n🧛‍♀️ Theme: Prohibition / Haunted Speakeasy\n🍸 Drinks: Signature craft cocktails\, seasonal brews & themed mocktails\n🅿️ Parking: Complimentary lot behind Atwater Brewery · Street parking nearby\n🎭 Dress Code: 1920s-inspired or all-black attire encouraged\n🎟️ Ticket Price Range: $25 – $45 (entry & cocktails vary by package)\n🕯️ Event Hours: 6:00 PM – 12:00 AM · Last Call 11:30 PM · Guests must be 21+\n👤 Entry: Valid ID required upon entry\n♿ Accessibility: ADA accessible entrance located at the front of the building \nReservations Encouraged. Reserve Your Spot Explore more Detroit Nightlife  on Luxe in the D.
URL:https://luxeinthed.com/event/225-spookeasy-halloween-pop-up-detroit-2025/
LOCATION:Atwater Brewery – Rivertown Detroit\, 237 Joseph Campau St\, Detroit\, MI\, 48207\, United States
CATEGORIES:Live Music,Nightlife,Seasonal Event
ATTACH;FMTTYPE=image/png:https://luxeinthed.com/wp-content/uploads/2025/10/225-Spookeasy.png
END:VEVENT
BEGIN:VEVENT
DTSTART;TZID=America/Detroit:20251025T140000
DTEND;TZID=America/Detroit:20251025T160000
DTSTAMP:20260422T163030
CREATED:20251008T185438Z
LAST-MODIFIED:20251008T231853Z
UID:4660-1761400800-1761408000@luxeinthed.com
SUMMARY:Howl-O-Ween Costume Contest at Grand Circus Park
DESCRIPTION:Bring your four-legged friend downtown for Detroit’s favorite Halloween paw-ty! \nThe annual Howl-O-Ween Costume Contest at Grand Circus Park invites pups and their humans to strut their stuff in creative\, spooky\, and downright adorable costumes. Enjoy themed games\, DJ music\, giveaways\, and plenty of treats for both dogs and owners. \nWhether you’re competing or just watching the parade of costumes\, this event is a fun\, free way to celebrate Halloween in the heart of Detroit — tail wags guaranteed! \n📍 Location: Grand Circus Park\, 101–157 Witherell St.\, Detroit\, MI 48226\n🕓 Date & Time: Saturday\, Oct. 25\, 2025 · 2 p.m.–4 p.m.\n🎟️ Ticket Price Range: Free admission\n🧛‍♀️ Theme: Pet & Family Halloween Costume Party\n🎶 Entertainment: Live DJ · Costume contests · Giveaways · Games\n🐕 Contest Categories: Best in Show · Best Pet-and-Parent Duo · Most Creative · Scariest Costume\n🍩 Treats: Complimentary snacks for pups and people\n🅿️ Parking: Nearby street parking and paid garages\n👗 Dress Code: Costumes encouraged for pets and owners\n🐾 Family-Friendly: All ages welcome · Dogs must remain leashed \n🎟️ Register at Downtown Detroit Partnership
URL:https://luxeinthed.com/event/howl-o-ween-costume-contest-at-grand-circus-park/
LOCATION:Grand Circus Park\, 101–157 Witherell St.\, Detroit\, MI\, 48226\, United States
CATEGORIES:Family Fun,Live Music,Seasonal Event
ATTACH;FMTTYPE=image/png:https://luxeinthed.com/wp-content/uploads/2025/10/Events-Photos-9.png
END:VEVENT
BEGIN:VEVENT
DTSTART;TZID=America/Detroit:20251025T160000
DTEND;TZID=America/Detroit:20251025T233000
DTSTAMP:20260422T163031
CREATED:20251008T153407Z
LAST-MODIFIED:20251008T232206Z
UID:4600-1761408000-1761435000@luxeinthed.com
SUMMARY:Detroit Corktown Halloween Bar Crawl 2025
DESCRIPTION:A spine-tingling Halloween crawl through Detroit’s most historic and haunted neighborhood. \nThe Detroit Corktown Halloween Bar Crawl 2025 is back — bigger\, bolder\, and more haunting than ever. Presented by PubCrawls.com\, this can’t-miss Detroit Halloween tradition takes over the city’s oldest neighborhood for a full night of costumed fun\, spooky drinks\, and unforgettable memories. \nGuests will visit 6+ participating venues throughout Corktown\, including McShane’s Irish Pub\, Checker Bar\, The Gaelic League\, Batch Brewing Company\, and more — each decked out in Halloween décor and serving themed drink specials all night long. Expect DJs\, dancing\, costume contests\, professional photographers\, and high-energy crowds ready to celebrate Detroit’s wildest night of the year. \nYour ticket includes entry to all participating bars\, drink specials\, live entertainment\, and a chance to win the Best Costume Contest with prizes awarded at midnight. Whether you go scary\, sultry\, or over-the-top creative\, this is your moment to turn heads and own the night. \n📍 Location: Corktown Detroit\n📍 Check-In: Corktown Tavern\, 1716 Michigan Ave\, Detroit\, MI 48216\n🧛‍♀️ Theme: Haunted Bar Crawl / Detroit After Dark\n🍸 Drinks: Themed cocktails\, exclusive drink specials & seasonal brews\n🅿️ Parking: Street parking & paid lots throughout Corktown\n🎭 Dress Code: Costumes required for entry · Prizes for best dressed\n🎟️ Ticket Price Range: $11.23 – $40 (includes crawl access & drink specials)\n🕯️ Event Hours: Check-in 4:00 PM – 10:00 PM · Crawl runs until 11:30 PM\n👤 Ages: 21+ with valid ID\n♿ Accessibility: Most Corktown venues are ADA accessible; accessibility varies by bar \nBuy Tickets on EventbriteExplore more Detroit Nightlife  on Luxe in the D.
URL:https://luxeinthed.com/event/detroit-corktown-halloween-bar-crawl-2025/
LOCATION:Corktown Tavern\, 1716 Michigan Ave.\, Detroit\, MI\, 48216\, United States
CATEGORIES:Live Music,Seasonal Event
ATTACH;FMTTYPE=image/png:https://luxeinthed.com/wp-content/uploads/2025/10/Bar-Crawl.png
END:VEVENT
BEGIN:VEVENT
DTSTART;TZID=America/Detroit:20251026T204500
DTEND;TZID=America/Detroit:20251026T212000
DTSTAMP:20260422T163031
CREATED:20251008T142705Z
LAST-MODIFIED:20251008T232517Z
UID:4590-1761511500-1761513600@luxeinthed.com
SUMMARY:Candlelight: A Haunted Evening of Halloween Classics
DESCRIPTION:An unforgettable evening where music\, mystery\, and candlelight converge. \nCandlelight Halloween Detroit 2025 – Haunted Candlelight Concert transforms the Crystal Ballroom at The Detroit Masonic Temple into a mesmerizing world of sound and glow. Performed by the Kalkaska String Quartet\, this 65-minute concert reimagines haunting Halloween-inspired melodies under the soft flicker of hundreds of candles — creating a live\, multi-sensory experience that’s both intimate and cinematic. \nGuests are treated to chilling renditions of Thriller\, Beetlejuice\, Psycho\, The Addams Family\, Ghostbusters\, Danse Macabre\, Night on Bald Mountain\, The Nightmare Before Christmas\, and more — all performed with elegance\, artistry\, and emotional depth. \nMore than a concert\, it’s a journey through sound and atmosphere — blending eerie nostalgia with classical sophistication. Whether you’re planning a romantic date night or sharing the experience with friends\, Candlelight Halloween Detroit 2025 transforms one of the city’s most iconic Gothic ballrooms into a night you’ll never forget. \n🧛‍♀️ Theme: Gothic Romance / Haunted Classics\n🍸 Drinks: Bar available before and after showtime\n🅿️ Parking: Street parking · Paid lots nearby (varies by venue)\n🎭 Dress Code: Cocktail or semi-formal attire encouraged\n🎟️ Ticket Price Range: $23 – $42 (based on seating tier and showtime)\n🕯️ Event Details: Doors open 45 minutes before showtime · Late arrivals not permitted\n👤 Ages: 8+ · Under 16 must be accompanied by an adult\n♿ Accessibility: ADA-compliant venue with assigned seating by zone \nBuy Tickets on Fever   \nInsider Tip: arrive early for the best seating near the stage—the glow from hundreds of candles is even more breathtaking up close.
URL:https://luxeinthed.com/event/candlelight-a-haunted-evening-of-halloween-classics/
LOCATION:Masonic Temple\, 500 Temple St\, Detroit\, MI\, 48201\, United States
CATEGORIES:Arts & Culture,Live Music,Seasonal Event
ATTACH;FMTTYPE=image/avif:https://luxeinthed.com/wp-content/uploads/2025/10/Fever.avif
END:VEVENT
BEGIN:VEVENT
DTSTART;TZID=America/Detroit:20251030T181500
DTEND;TZID=America/Detroit:20251030T192000
DTSTAMP:20260422T163031
CREATED:20251008T142028Z
LAST-MODIFIED:20251008T234122Z
UID:4585-1761848100-1761852000@luxeinthed.com
SUMMARY:Candlelight: A Haunted Evening of Halloween Classics
DESCRIPTION:Candlelight concerts bring the magic of live music to breathtaking spaces across Detroit. \nExperience Candlelight Halloween Detroit 2025 – Haunted Candlelight Concert inside the Crystal Ballroom at The Detroit Masonic Temple\, where hundreds of flickering candles transform the venue into an unforgettable multi-sensory experience. \nPerformed by the Kalkaska String Quartet\, this 65-minute concert brings haunting\, Halloween-inspired melodies to life beneath the warm glow of candlelight. The result is an evening that feels intimate\, cinematic\, and timeless. \nGuests will be treated to chilling renditions of Thriller\, Beetlejuice\, Psycho\, The Addams Family\, Ghostbusters\, Danse Macabre\, Night on Bald Mountain\, The Nightmare Before Christmas\, and more — performed with the elegance and precision only a live string quartet can deliver. \nMore than a concert\, this is a journey through sound and atmosphere — blending eerie nostalgia with classical sophistication. Whether you’re planning a romantic date night or an evening out with friends\, Candlelight Halloween Detroit transforms one of the city’s most iconic Gothic ballrooms into a hauntingly beautiful escape. \n🧛‍♀️ Theme: Gothic Romance / Haunted Classics\n🍸 Drinks: Bar available before and after showtime\n🅿️ Parking: Street parking · Paid lots nearby (varies by venue)\n🎭 Dress Code: Cocktail or semi-formal attire encouraged\n🎟️ Ticket Price Range: $23 – $42 (depending on seating tier and showtime)\n🕯️ Event Details: Doors open 45 minutes before showtime · Late arrivals not permitted\n👤 Ages: 8+ · Under 16 must be accompanied by an adult\n♿ Accessibility: ADA-compliant venue with assigned seating by zone \nBuy Tickets on Fever   \nInsider Tip: arrive early for the best seating near the stage—the glow from hundreds of candles is even more breathtaking up close.
URL:https://luxeinthed.com/event/candlelight-halloween-detroit-2025/
LOCATION:Masonic Temple\, 500 Temple St\, Detroit\, MI\, 48201\, United States
CATEGORIES:Arts & Culture,Live Music,Seasonal Event
ATTACH;FMTTYPE=image/avif:https://luxeinthed.com/wp-content/uploads/2025/10/Fever.avif
END:VEVENT
END:VCALENDAR