BEGIN:VCALENDAR
VERSION:2.0
PRODID:-//Luxe in the D - ECPv6.15.18//NONSGML v1.0//EN
CALSCALE:GREGORIAN
METHOD:PUBLISH
X-ORIGINAL-URL:https://luxeinthed.com
X-WR-CALDESC:Events for Luxe in the D
REFRESH-INTERVAL;VALUE=DURATION:PT1H
X-Robots-Tag:noindex
X-PUBLISHED-TTL:PT1H
BEGIN:VTIMEZONE
TZID:UTC
BEGIN:STANDARD
TZOFFSETFROM:+0000
TZOFFSETTO:+0000
TZNAME:UTC
DTSTART:20240101T000000
END:STANDARD
END:VTIMEZONE
BEGIN:VEVENT
DTSTART;TZID=UTC:20250725T170000
DTEND;TZID=UTC:20250725T230000
DTSTAMP:20260417T200108
CREATED:20250526T010039Z
LAST-MODIFIED:20250526T011227Z
UID:1538-1753462800-1753484400@luxeinthed.com
SUMMARY:Saugatuck Venetian Festival 2025
DESCRIPTION:Join the charming town of Saugatuck for an unforgettable fireworks show over Lake Kalamazoo. This event offers spectacular views\, a lively crowd\, and a magical atmosphere perfect for making lasting memories. Whether you’re relaxing by the water or enjoying a drink at a local spot\, the fireworks will take your breath away! \nSuggested viewing locations: \n\nCoghlin Park\, Cook Park\nWicks Park\nMt. Baldhead Park\nThe BARge\, The Butler Patio\nCoral Gables\, The Old Boat House\nThe lawn area between the Red Dock parking lot and Blue Star Hwy\n\n  \nAttendance Cost: \n\nFriday Night Concert: Tickets range from $15 to $20\, depending on purchase date.\nDinghy Poker Run: $22.20 per entry\, including fees.\nDouglas Duck Dash: $6 for one duck; $25 for a flock of five; $100 for a business-sponsored waddle of 15 ducks.\nLighted Boat Parade: No cost to participate; however\, registration is required\n\n  \nTo advance purchase tickets\, please visit: TicketSignup
URL:https://luxeinthed.com/event/saugatuck-venetian-festival-2025/
LOCATION:Coghlin Park\, 60 Griffith St.\, Saugatuck\, MI\, 49453\, United States
CATEGORIES:Concert,Family Fun,Festivals,Fireworks
END:VEVENT
BEGIN:VEVENT
DTSTART;TZID=UTC:20250709T174500
DTEND;TZID=UTC:20250709T224500
DTSTAMP:20260417T200108
CREATED:20250526T020635Z
LAST-MODIFIED:20250528T032946Z
UID:1572-1752083100-1752101100@luxeinthed.com
SUMMARY:2025 Clinton Township Fireworks Spectacular
DESCRIPTION:Clinton Township’s fireworks show is the perfect way to celebrate summer in style! The evening will kick off with exciting pre-show activities\, followed by a high-energy concert and a grand fireworks finale. Bring your family\, friends\, and neighbors to enjoy the sparkling sky and create lasting memories together. Don’t miss this fun-filled night that lights up the heart of Clinton Township! \nSchedule of Events:  \n\n6:00 PM – 8:30 PM: Pre-show activities – including inflatables and other fun-filled activities!\n8:30 PM – 10:00 PM: Live Concert by Your Generation In Concert\n10:05 PM: Fireworks Display begins\, lighting up the night sky with a spectacular show.\n\n  \nOn-Site Parking: Limited parking is available at the Civic Center Grounds. \nOverflow Parking: Additional parking is available at Erie Elementary School and the Chippewa Valley 9th Grade Center. \nShuttle Service: Complimentary shuttle buses will transport attendees between overflow parking areas and the event site. \nRestrictions: No alcohol or glass containers are permitted on the premises. \nAdmission: Free! (Fees apply for food vendors and select activities) \n 
URL:https://luxeinthed.com/event/2025-clinton-township-fireworks-spectacular/
LOCATION:Clinton Township Civic Center Grounds\, 40700 Romeo Plank Rd.\, Clinton Township\, MI\, 48038\, United States
CATEGORIES:Family Fun,Fireworks
END:VEVENT
BEGIN:VEVENT
DTSTART;TZID=UTC:20250704T093000
DTEND;TZID=UTC:20250704T230000
DTSTAMP:20260417T200108
CREATED:20250526T012616Z
LAST-MODIFIED:20250526T014625Z
UID:1549-1751621400-1751670000@luxeinthed.com
SUMMARY:Mackinac Island Fireworks
DESCRIPTION:Mackinac Island offers a unique twist on traditional fireworks with its stunning display over the Straits of Mackinac. Watch the fireworks light up the night sky\, surrounded by the natural beauty of the island. It’s a one-of-a-kind experience that you won’t find anywhere else! \nAdditional Independence Day Events \n\nStone Skipping Tournament: Held at Windermere Point Beach at 10:00 AM\, this annual event welcomes participants of all ages to showcase their stone-skipping skills.\nStar-Spangled Fourth at Fort Mackinac: From 9:30 AM to 7:00 PM\, enjoy an 1880s-style Independence Day celebration featuring a 38-gun salute\, patriotic games\, and historical reenactments. Admission is $17 for adults and $10.25 for children aged 5–12; children under 5 enter free.\nGrand Hotel’s Old-Fashioned Fourth of July Celebration: Running from July 3–6\, this package includes accommodations\, meals\, a children’s carnival\, ice cream social\, cookout luncheon\, evening receptions\, and exclusive viewing of the fireworks display. Book today!
URL:https://luxeinthed.com/event/mackinac-island-fireworks/
LOCATION:Over the Straits of Mackinac Island\, 102 W. Straits Ave.\, Mackinaw City\, MI\, 49701\, United States
CATEGORIES:Family Fun,Fireworks
END:VEVENT
BEGIN:VEVENT
DTSTART;TZID=UTC:20250629T221500
DTEND;TZID=UTC:20250629T224500
DTSTAMP:20260417T200108
CREATED:20250526T015238Z
LAST-MODIFIED:20250528T032914Z
UID:1567-1751235300-1751237100@luxeinthed.com
SUMMARY:2025 Livonia Fireworks Extravaganza
DESCRIPTION:Get ready to light up the night at Livonia’s Fireworks Extravaganza — the grand finale of the city’s biggest summer celebration! As the sky bursts into a dazzling display of color and sound\, you’ll feel the magic from every corner of Ford Field. Bring your blankets\, grab your snacks\, and settle in early — this 30-minute spectacle is the kind of jaw-dropping\, ooh-and-aah-worthy show that turns neighbors into friends and memories into traditions. It’s not just fireworks — it’s Livonia’s sky-high sendoff in style! \n  \nParking: Available at Livonia City Hall with free shuttle service to the park \nRoad Closures: Starting at 7:00 PM\, the Livonia Police Department will close Farmington Road between Five Mile and Schoolcraft\, as well as Lyndon\, Summers\, and Civic Center Drive at Farmington Road\, to accommodate the fireworks display.
URL:https://luxeinthed.com/event/livonia-fireworks-extravaganza/
LOCATION:Ford Field – Livonia\, 33841 Lyndon St.\, Livonia\, MI\, 48154\, United States
CATEGORIES:Family Fun,Fireworks
END:VEVENT
BEGIN:VEVENT
DTSTART;TZID=UTC:20250627T213000
DTEND;TZID=UTC:20250627T230000
DTSTAMP:20260417T200108
CREATED:20250528T032744Z
LAST-MODIFIED:20250528T033004Z
UID:1584-1751059800-1751065200@luxeinthed.com
SUMMARY:2025 Stony Creek Metropark Fireworks
DESCRIPTION:Stony Creek Metropark sets the stage for a perfect evening of fun and excitement. With live entertainment\, food vendors\, and a thrilling fireworks show\, this event offers something for everyone. Make sure to arrive early and enjoy the beautiful park setting before the grand fireworks display begins. It’s a perfect way to enjoy the summer! \n  \nAdmission: A Metroparks vehicle entry permit is required to enter any Metropark and is only $40 annually for regular admission or $10 daily\, purchase annual parking pass.
URL:https://luxeinthed.com/event/stony-creek-metropark-fireworks/
LOCATION:Stony Creek Metropark\, 4300 Main Park Road\, Shelby Township\, MI\, 48316\, United States
CATEGORIES:Family Fun,Fireworks
END:VEVENT
BEGIN:VEVENT
DTSTART;TZID=UTC:20250626T180000
DTEND;TZID=UTC:20250626T220000
DTSTAMP:20260417T200108
CREATED:20250528T033312Z
LAST-MODIFIED:20250528T033354Z
UID:1592-1750960800-1750975200@luxeinthed.com
SUMMARY:Wixom 'Lite the Night' Fireworks 2025
DESCRIPTION:Celebrate summer with the Wixom Lite the Night Fireworks! This delightful evening features a breathtaking fireworks display that will light up the night sky\, accompanied by music and a festive atmosphere. It’s the perfect outing for families\, couples\, and friends. Don’t miss out on this charming Wixom tradition!
URL:https://luxeinthed.com/event/wixom-lite-the-night-fireworks-2025/
LOCATION:Sibley Square Park\, 48900 Pontiac Trail\, Wixom\, MI\, 48393\, United States
CATEGORIES:Family Fun,Fireworks
END:VEVENT
BEGIN:VEVENT
DTSTART;TZID=UTC:20250625T180000
DTEND;TZID=UTC:20250625T230000
DTSTAMP:20260417T200108
CREATED:20250528T033710Z
LAST-MODIFIED:20250528T033710Z
UID:1596-1750874400-1750892400@luxeinthed.com
SUMMARY:2025 Festival of the Hills
DESCRIPTION:Rochester Hills invites you to enjoy an evening filled with excitement and fun! With a stunning fireworks display\, live music\, and plenty of activities for all ages\, this event is the perfect summer celebration. Bring the family and enjoy a memorable night under the stars! \nParking: Parking is available inside the park at the Hamlin Road entrance. \n\nHandicap parking will be available all evening inside the park\, at the Hamlin Road entrance.\nOther on-site parking is very limited inside the park.\nStarting at 4 pm\, parking will also be allowed on Hamlin Road itself:\n\ntraffic will be ONE WAY starting at 5:30 pm:\n\ngoing EAST on Hamlin Rd from John R to Dequindre\ngoing WEST on Hamlin Rd from John R to Rochester Road\nCars parked on Hamlin have to be moved by 11:30 pm or they will be towed.\n\n\n\n\nPlease follow the directional signs and be considerate of the neighbors in the area.\nConsider carpooling\, parking off site\, walking or riding a bike.\nNo motor home parking.\nNo over-night parking\n\nTraffic and Parking Map
URL:https://luxeinthed.com/event/2025-festival-of-the-hills/
LOCATION:Borden Park\, 1400 E. Hamlin Rd.\, Rochester Hills\, MI\, 48309\, United States
CATEGORIES:Family Fun,Fireworks
END:VEVENT
BEGIN:VEVENT
DTSTART;TZID=UTC:20250624T160000
DTEND;TZID=UTC:20250629T230000
DTSTAMP:20260417T200108
CREATED:20250526T013741Z
LAST-MODIFIED:20250526T014329Z
UID:1558-1750780800-1751238000@luxeinthed.com
SUMMARY:2025 Livonia Spree
DESCRIPTION:Join the Livonia community for an unforgettable night as the Livonia Spree Fireworks light up the sky! This family-friendly event is the perfect way to end a summer weekend\, featuring a spectacular fireworks display that will leave you in awe. With a vibrant atmosphere and fun for all ages\, it’s a night you won’t want to miss. Come for the fireworks\, stay for the memories! \nCarnival Rides & Wristbands: \nOperating Hours: \n\nTuesday\, June 24: 4:00 PM – 11:00 PM\nWednesday – Friday\, June 25–27: 2:00 PM – 11:00 PM\nSaturday\, June 28: 12:00 PM – 11:00 PM\nSunday\, June 29: 12:00 PM – 11:00 PM\nWristband Pricing:\n\nAdvance Purchase: $25 (plus a $2.75 fee)\, valid for one day (excluding Sunday).\nOn-Site Purchase: $35 per day.\n\n\nPurchase Advanced Tickets: Innovative Ticketing\n\nHeight Restrictions: Wristbands are not recommended for children under 36 inches due to limited ride options. Parents with children under 48 inches should review ride height requirements at Wade Shows before purchasing. \nAdmission: Free! (Fees apply for rides\, food\, and select activities) \nAdditional Events: Live Music | Kids Tent Activities: Petting farm\, pig races\, duck races\, foam party\, and variety shows and more!  \nParking & Shuttle Service \n\nParking Location: Livonia City Hall (33000 Civic Center Dr\, Livonia\, MI).\nShuttle Service: Complimentary shuttles will transport attendees between the parking area and Ford Field throughout the event
URL:https://luxeinthed.com/event/livonia-spree-fireworks/
LOCATION:Ford Field – Livonia\, 33841 Lyndon St.\, Livonia\, MI\, 48154\, United States
CATEGORIES:Carnival,Family Fun,Festivals,Fireworks
END:VEVENT
BEGIN:VEVENT
DTSTART;TZID=UTC:20250623T220000
DTEND;TZID=UTC:20250623T223000
DTSTAMP:20260417T200108
CREATED:20250526T021641Z
LAST-MODIFIED:20250528T033036Z
UID:1578-1750716000-1750717800@luxeinthed.com
SUMMARY:2025 Ford Fireworks
DESCRIPTION:Get ready for an unforgettable night as Ford Fireworks lights up the sky on June 23\, 2025! One of the largest and most popular fireworks displays in the country\, this annual event will take place along the Detroit River\, offering breathtaking views and a magical atmosphere for all to enjoy. Don’t miss out on the chance to experience a dazzling array of pyrotechnics\, live entertainment\, and the perfect summer night out. \nRooftop Party: \nFor an exclusive experience\, The Parade Company hosts the Rooftop Party atop the Center Garage. This fundraiser includes live entertainment\, catering by Andiamo\, complimentary beverages\, and a premier view of the fireworks. \n\nTickets: $350 for adults\, $125 for children 6 and under\nPurchase: Visit theparade.org or contact CarolAnn at cbarbb@theparade.org\n\n  \nFor the latest updates and information\, visit theparade.org or visitdetroit.com \nProhibited Items: No tents\, alcohol\, drones\, pets\, or personal fireworks are allowed in public viewing areas. \nSecurity: Expect security screenings at entry points to major viewing locations.
URL:https://luxeinthed.com/event/2025-ford-fireworks/
LOCATION:Detroit Riverfront\, 588 E Jefferson Ave.\, Detroit\, MI\, 48207\, United States
CATEGORIES:Family Fun,Fireworks
END:VEVENT
BEGIN:VEVENT
DTSTART;TZID=UTC:20250618T150000
DTEND;TZID=UTC:20250622T190000
DTSTAMP:20260417T200108
CREATED:20250528T034950Z
LAST-MODIFIED:20250528T035104Z
UID:1605-1750258800-1750618800@luxeinthed.com
SUMMARY:2025 Bay-Rama Fishfly Festival
DESCRIPTION:Celebrate summer at the Bay-Rama Fishfly Festival in New Baltimore\, MI on June 22nd! This beloved local tradition brings together live music\, delicious food\, and handmade crafts at one of Michigan’s most popular festivals. From traditional Polish pierogi to unique artisanal creations\, there’s something for everyone. This vibrant event is perfect for families\, foodies\, and art lovers alike—come and immerse yourself in the fun! \nGeneral Admission: Free to attend\, including many family-friendly activities such as the parade\, kids’ games\, and fireworks display. \nFestival Tent (Evening Entertainment): There is a $5 cover charge to enter the Festival Tent after 7 PM on Thursday\, Friday\, and Saturday.Please note that no one under 21 is allowed in the tent during these hours \nCarnival Rides: Unlimited ride wristbands are available for $30 and can be purchased online or at the event. These wristbands are valid for unlimited rides on a single day. Additionally\, a $5 discount is available on Wednesday\, June 18\, with a printable coupon from the festival’s website. \n\n\n\n\n\n\n\n\n\nCheck out the full event schedule here for detailed times and activities.
URL:https://luxeinthed.com/event/2025-bay-rama-fishfly-festival/
LOCATION:Walter and Mary Burke Park\, 35091 23 Mile Rd.\, New Baltimore\, MI\, 48047\, United States
CATEGORIES:Carnival,Family Fun,Festivals,Fireworks,Live Music
END:VEVENT
BEGIN:VEVENT
DTSTART;TZID=UTC:20250612T180000
DTEND;TZID=UTC:20250615T220000
DTSTAMP:20260417T200108
CREATED:20250528T035950Z
LAST-MODIFIED:20250528T040059Z
UID:1609-1749751200-1750024800@luxeinthed.com
SUMMARY:Redford Township Community Festival
DESCRIPTION:Get ready for a weekend of fun\, food\, and fireworks at the Redford Township Community Festival\, happening June 12–15 at Bell Creek County Park! This family-friendly event features thrilling carnival rides\, live entertainment\, delicious eats\, and an epic fireworks show lighting up the sky on Friday night at dusk. Whether you’re bringing the kids for Saturday’s activities or just soaking in the summer vibes\, there’s something for everyone to enjoy. \n  \nAdmission: Free! (Fees apply for rides\, food\, and select activities)
URL:https://luxeinthed.com/event/redford-township-community-festival/
LOCATION:Bell Creek Park\, 15300 Inkster Rd.\, Redford Township\, MI\, 48239\, United States
CATEGORIES:Family Fun,Festivals,Fireworks
END:VEVENT
END:VCALENDAR