BEGIN:VCALENDAR
VERSION:2.0
PRODID:-//Luxe in the D - ECPv6.15.18//NONSGML v1.0//EN
CALSCALE:GREGORIAN
METHOD:PUBLISH
X-ORIGINAL-URL:https://luxeinthed.com
X-WR-CALDESC:Events for Luxe in the D
REFRESH-INTERVAL;VALUE=DURATION:PT1H
X-Robots-Tag:noindex
X-PUBLISHED-TTL:PT1H
BEGIN:VTIMEZONE
TZID:America/Detroit
BEGIN:DAYLIGHT
TZOFFSETFROM:-0500
TZOFFSETTO:-0400
TZNAME:EDT
DTSTART:20240310T070000
END:DAYLIGHT
BEGIN:STANDARD
TZOFFSETFROM:-0400
TZOFFSETTO:-0500
TZNAME:EST
DTSTART:20241103T060000
END:STANDARD
BEGIN:DAYLIGHT
TZOFFSETFROM:-0500
TZOFFSETTO:-0400
TZNAME:EDT
DTSTART:20250309T070000
END:DAYLIGHT
BEGIN:STANDARD
TZOFFSETFROM:-0400
TZOFFSETTO:-0500
TZNAME:EST
DTSTART:20251102T060000
END:STANDARD
BEGIN:DAYLIGHT
TZOFFSETFROM:-0500
TZOFFSETTO:-0400
TZNAME:EDT
DTSTART:20260308T070000
END:DAYLIGHT
BEGIN:STANDARD
TZOFFSETFROM:-0400
TZOFFSETTO:-0500
TZNAME:EST
DTSTART:20261101T060000
END:STANDARD
END:VTIMEZONE
BEGIN:VEVENT
DTSTART;TZID=America/Detroit:20250815T190000
DTEND;TZID=America/Detroit:20250815T210000
DTSTAMP:20260423T023952
CREATED:20250724T192825Z
LAST-MODIFIED:20250724T195137Z
UID:4360-1755284400-1755291600@luxeinthed.com
SUMMARY:Movie Nights In The D – Twisters
DESCRIPTION:Movie Nights in the D – Twisters | PG-13\nGet ready for a fun-filled summer evening at Movie Nights in the D! Bring your family and friends to enjoy a variety of classic films on the big screen at our free outdoor movie series at Campus Martius Park – Detroit’s beloved heart-of-the-city gathering spot. \nBring your blanket or lawn chair and settle in for a relaxing night under the stars\, right in the center of Downtown. \n📍 Pre-show activities begin at 6 PM\, so arrive early to take part in fun on-site activations and grab fresh popcorn from Jetta’s Popcorn before the movie begins at 7 PM. \n🎁 Bonus Giveaway Alert:\nOn August 15\, attendees can win tickets to exciting family shows like MasterChef LIVE and Disney Descendants/Zombies\, courtesy of 313 Presents. \n🅿️ Parking Info – Campus Martius Park \n\nZ Deck Garage (1234 Library St.): $10–$15\nOne Campus Martius Garage (1188 Farmer St.): $12 flat after 5PM\nStreet Parking: Metered spots available; free after 10PM\nAccessibility: ADA-accessible entrances available throughout Campus Martius\n\n  \n✨ Looking for more family-friendly fun this summer? Explore the Full Event Calendar on Luxe in the D.
URL:https://luxeinthed.com/event/movie-nights-in-the-d-twisters-august-15/
LOCATION:Campus Martius Park\, 800 Woodward Ave\, Detroit\, 48226\, United States
CATEGORIES:Family Fun
ATTACH;FMTTYPE=image/png:https://luxeinthed.com/wp-content/uploads/2025/07/Movie-nights-int-the-d-Twisters.png
END:VEVENT
END:VCALENDAR