BEGIN:VCALENDAR
VERSION:2.0
PRODID:-//Luxe in the D - ECPv6.15.18//NONSGML v1.0//EN
CALSCALE:GREGORIAN
METHOD:PUBLISH
X-ORIGINAL-URL:https://luxeinthed.com
X-WR-CALDESC:Events for Luxe in the D
REFRESH-INTERVAL;VALUE=DURATION:PT1H
X-Robots-Tag:noindex
X-PUBLISHED-TTL:PT1H
BEGIN:VTIMEZONE
TZID:UTC
BEGIN:STANDARD
TZOFFSETFROM:+0000
TZOFFSETTO:+0000
TZNAME:UTC
DTSTART:20240101T000000
END:STANDARD
END:VTIMEZONE
BEGIN:VTIMEZONE
TZID:America/Detroit
BEGIN:DAYLIGHT
TZOFFSETFROM:-0500
TZOFFSETTO:-0400
TZNAME:EDT
DTSTART:20240310T070000
END:DAYLIGHT
BEGIN:STANDARD
TZOFFSETFROM:-0400
TZOFFSETTO:-0500
TZNAME:EST
DTSTART:20241103T060000
END:STANDARD
BEGIN:DAYLIGHT
TZOFFSETFROM:-0500
TZOFFSETTO:-0400
TZNAME:EDT
DTSTART:20250309T070000
END:DAYLIGHT
BEGIN:STANDARD
TZOFFSETFROM:-0400
TZOFFSETTO:-0500
TZNAME:EST
DTSTART:20251102T060000
END:STANDARD
BEGIN:DAYLIGHT
TZOFFSETFROM:-0500
TZOFFSETTO:-0400
TZNAME:EDT
DTSTART:20260308T070000
END:DAYLIGHT
BEGIN:STANDARD
TZOFFSETFROM:-0400
TZOFFSETTO:-0500
TZNAME:EST
DTSTART:20261101T060000
END:STANDARD
END:VTIMEZONE
BEGIN:VEVENT
DTSTART;TZID=UTC:20250808T113000
DTEND;TZID=UTC:20250810T233000
DTSTAMP:20260423T024909
CREATED:20250526T003022Z
LAST-MODIFIED:20250721T175400Z
UID:1513-1754652600-1754868600@luxeinthed.com
SUMMARY:Ribs and Soul Festival 2025
DESCRIPTION:Get ready to fire up your summer with the Ribs and Soul Festival Detroit 2025\, the city’s ultimate celebration of mouthwatering barbecue and live soul music — all set along the scenic Detroit River at Hart Plaza. This three-day festival brings together the boldest pitmasters\, soulful local acts\, and thousands of foodies for a weekend of finger-licking flavor and feel-good vibes. \nWhether you’re craving slow-smoked ribs\, savory sides\, or sweet summer treats\, this event has it all. Enjoy high-energy performances from national and local artists\, family-friendly fun\, and the unmistakable rhythm of Detroit’s cultural heartbeat. \n📍Location:\nHart Plaza – Downtown Detroit \n📅 Dates:\nFriday\, August 8 – Sunday\, August 10\, 2025 \nAdmission: \n\nFree on Friday until 4 PM ($15 after)\nFree on Saturday & Sunday until 1 PM ($15 after)\nChildren under 12 get in free all weekend\n\nVIP Experience: enjoy premium seating near the stage\, skip-the-line perks\, and VIP-only amenities for an elevated experience \n\nNightly VIP: $65/night\n3-Day Weekend VIP: $99 (early bird pricing)\n\n  \n🚗 Parking & ADA Accessibility\nAttending the Ribs and Soul Festival Detroit 2025 at Hart Plaza? Here are the best parking options nearby: \nNearby Garages: \n\nCobo Center Garage (1 Washington Blvd) – ADA accessible\, elevators\, short walk to Hart Plaza\nMillennium Garage (432 W Congress St) – Underground\, ADA parking on main level\nFinancial District Garage (730 Shelby St) – Affordable rates\, accessible entries\n\n  \nAccessible Parking:\nAll major garages offer ADA-designated spaces \n\nStreet-level ADA spots available along Atwater St and Bates St\nDrop-off zone for guests with mobility needs available on Civic Center Dr\n\n  \nRideshare:\nLyft/Uber drop-off zone is located at Atwater & Bates\, one block from the main entrance. \nTip: Arrive early for best parking\, especially during peak performances. \nDon’t miss one of Detroit’s most iconic summer festivals. From the sizzle of the grills to the sounds of smooth jazz and R&B echoing through the riverfront\, this is a weekend you’ll want to savor. \nVisit the official site to get tickets and view the lineup: https://www.ribsrnbmusicfestival.com/
URL:https://luxeinthed.com/event/ribs-and-soul-festival-detroit-2025/
LOCATION:Hart Plaza\, 1 Hart Plaza\, Detroit\, MI\, 48226\, United States
CATEGORIES:Concert,Family Fun,Festivals,Live Music
ATTACH;FMTTYPE=image/png:https://luxeinthed.com/wp-content/uploads/2025/07/Ribs-and-Soul-Festival.png
END:VEVENT
BEGIN:VEVENT
DTSTART;TZID=America/Detroit:20250809T110000
DTEND;TZID=America/Detroit:20250809T170000
DTSTAMP:20260423T024909
CREATED:20250724T210910Z
LAST-MODIFIED:20250724T212755Z
UID:4400-1754737200-1754758800@luxeinthed.com
SUMMARY:Family Day at the Museum of Contemporary Art Detroit (MOCAD)
DESCRIPTION:Family Day at the Museum of Contemporary Art Detroit (MOCAD)Bring the whole family to the Museum of Contemporary Art Detroit (MOCAD) for an inspiring day of creativity and connection! Families can explore engaging exhibitions designed for kids\, youth\, teens\, and their grownups. Enjoy hands-on artmaking in the café\, pop-up gallery chats\, and collaborative projects designed to spark imagination across all ages. \n🖌️ Artmaking in the MOCAD Café🖼️ Interactive Gallery Activities🎨 Collaborative Family Projects🆓 Free Admission for All Attendees \nFamily Day at MOCAD is presented with support from the Mandell and Madeleine Berman Foundation and Michigan State University Federal Credit Union. \n📍 Parking Information \n\nLot Parking Available: Directly behind MOCAD (entrance off Garfield St.)\nStreet Parking: Metered parking along Woodward Ave & surrounding streets\nADA Accessible: Main entrance and galleries are fully accessible
URL:https://luxeinthed.com/event/family-day-at-mocad/
LOCATION:Museum of Contemporary Art Detroit\, 4454 Woodward Ave.\, Detroit\, MI\, 48201\, United States
CATEGORIES:Arts & Culture,Family Fun
ATTACH;FMTTYPE=image/png:https://luxeinthed.com/wp-content/uploads/2025/07/MO.png
END:VEVENT
BEGIN:VEVENT
DTSTART;TZID=America/Detroit:20250809T190000
DTEND;TZID=America/Detroit:20250809T213000
DTSTAMP:20260423T024909
CREATED:20250724T204233Z
LAST-MODIFIED:20250724T205508Z
UID:4385-1754766000-1754775000@luxeinthed.com
SUMMARY:Downtown Rochester: Movies in the Moonlight
DESCRIPTION:Movies in the Moonlight – Free Outdoor Movie Nights in Downtown Rochester🎬 Feature Film: Wicked | PG \nGather your friends and family for an unforgettable summer evening in the heart of Downtown Rochester! Movies in the Moonlight transforms the parking lot at East 3rd & Water Street into an open-air theater. Bring your own chairs (BYOC) and settle in as movies begin around 8:30 PM\, with the lot opening at 7:00 PM. Admission is free! \n🍩 Fuel your night with delicious concessions by The Little Donut Factory—featuring popcorn\, fresh-squeezed lemonade\, cold brew with sweet cream\, and sweet treats. Outside food is allowed (no alcohol or glass). \n🅿️ Parking Info – Downtown Rochester \n\n🚗 Free public parking available in nearby structures and lots (including E. 3rd & Water Street\, Walnut Blvd lot)\n⛔ No early drop-offs for chairs; BYOC begins at 7PM\n♿ ADA-compliant access available from Water Street entrance\n\n  \nLooking for more family fun nights in Metro Detroit? Browse the full Luxe in the D Family Friendly Guide »
URL:https://luxeinthed.com/event/downtown-rochester-movies-in-the-moonlight/
LOCATION:Downtown Rochester\, E. 3rd Street & Water Street\, Rochester\, 48307\, United States
CATEGORIES:Family Fun
ATTACH;FMTTYPE=image/webp:https://luxeinthed.com/wp-content/uploads/2025/07/image-asset.webp
END:VEVENT
END:VCALENDAR