BEGIN:VCALENDAR
VERSION:2.0
PRODID:-//Luxe in the D - ECPv6.15.18//NONSGML v1.0//EN
CALSCALE:GREGORIAN
METHOD:PUBLISH
X-ORIGINAL-URL:https://luxeinthed.com
X-WR-CALDESC:Events for Luxe in the D
REFRESH-INTERVAL;VALUE=DURATION:PT1H
X-Robots-Tag:noindex
X-PUBLISHED-TTL:PT1H
BEGIN:VTIMEZONE
TZID:America/Detroit
BEGIN:DAYLIGHT
TZOFFSETFROM:-0500
TZOFFSETTO:-0400
TZNAME:EDT
DTSTART:20240310T070000
END:DAYLIGHT
BEGIN:STANDARD
TZOFFSETFROM:-0400
TZOFFSETTO:-0500
TZNAME:EST
DTSTART:20241103T060000
END:STANDARD
BEGIN:DAYLIGHT
TZOFFSETFROM:-0500
TZOFFSETTO:-0400
TZNAME:EDT
DTSTART:20250309T070000
END:DAYLIGHT
BEGIN:STANDARD
TZOFFSETFROM:-0400
TZOFFSETTO:-0500
TZNAME:EST
DTSTART:20251102T060000
END:STANDARD
BEGIN:DAYLIGHT
TZOFFSETFROM:-0500
TZOFFSETTO:-0400
TZNAME:EDT
DTSTART:20260308T070000
END:DAYLIGHT
BEGIN:STANDARD
TZOFFSETFROM:-0400
TZOFFSETTO:-0500
TZNAME:EST
DTSTART:20261101T060000
END:STANDARD
END:VTIMEZONE
BEGIN:VEVENT
DTSTART;TZID=America/Detroit:20250730T090000
DTEND;TZID=America/Detroit:20250730T173000
DTSTAMP:20260423T024325
CREATED:20250719T145342Z
LAST-MODIFIED:20250719T145342Z
UID:3848-1753866000-1753896600@luxeinthed.com
SUMMARY:Wild Summer Nights Concert Series 2025 at the Detroit Zoo
DESCRIPTION:🎶 Wild Summer Nights Concert Series 2025 at the Detroit Zoo\nEnjoy warm summer evenings at the Wild Summer Nights Concert Series 2025\, happening every Wednesday through August at the Detroit Zoo in Royal Oak. This all-ages event offers extended hours\, local music\, and full access to the zoo’s habitats and attractions — all included with admission. \n🐾 Explore After Hours\nFamilies and couples can stay late and explore animal habitats\, the carousel\, and zoo attractions until 8 PM. Live music begins at 6 PM at the Main Picnic Grove\, featuring local bands performing jazz\, Motown\, pop\, and kid-friendly sets. \n🎤 Music Line-Up Highlights\nRecent performances include: \n\nJuly 23 – KGB Motown Band (Motown)\nJuly 30 – Your Generation (Pop/Rock)\nAugust 6 – Olivia Van Goor (Jazz)\nAugust 13 – Second Wind (Classic Rock)\nAugust 20 – Ashley Lynn Experience (Country)\nAugust 27 – Rondo String Quartet (Strings)\n\n  \nWhat to Expect \n\nThree extra hours to enjoy the zoo after general closing\nFood\, snacks\, beer\, and wine available for purchase\nRelaxed\, family-friendly atmosphere with open seating\nGuests may bring blankets or lawn chairs (no outside alcohol)\n\n  \n📌 Know Before You Go \n\nConcerts are held at the Main Picnic Grove\nEvents happen rain or shine\nMembers get in free — no reservation required\nTickets are non-refundable\, but may be credited toward membership\n\n  \n🎟️ Admission & Parking\nAdmission includes full zoo access + concert entry: \n\nAdults (13–64): $22\nSeniors (65+): $19\nYouth (2–12): $19\nChildren under 2: Free\n💵 Walk-up prices: $27 (adult)\, $24 (youth/senior)\n💳 Members & Reciprocal Members: Free admission\, no ticket needed\n\n🚗 Parking: $8 per car | $12 per bus — parking pass required \n🎫 Purchase Tickets\nBuy tickets early for the best rate.\nBuy Zoo Admission & Parking Passes →
URL:https://luxeinthed.com/event/wild-summer-nights-concert-series-2025-at-the-detroit-zoo/
LOCATION:Detroit Zoo\, 8450 W 10 Mile Rd\, Royal Oak\, MI\, 48067\, United States
CATEGORIES:Family Fun,Live Music
ATTACH;FMTTYPE=image/jpeg:https://luxeinthed.com/wp-content/uploads/2025/07/Wild-Summer-Night.jpg
END:VEVENT
BEGIN:VEVENT
DTSTART;TZID=America/Detroit:20250730T134000
DTEND;TZID=America/Detroit:20250730T180000
DTSTAMP:20260423T024325
CREATED:20250716T200150Z
LAST-MODIFIED:20250716T200951Z
UID:3560-1753882800-1753898400@luxeinthed.com
SUMMARY:Catch a Detroit Tigers Game: Diamondbacks at Tigers
DESCRIPTION:Planning a Detroit Tigers game night? Whether you’re looking to splurge on a skybox suite or grab a couple of seats behind home plate\, there’s a luxe way to enjoy the game \nLooking for the perfect way to spend an evening in the city? Catch a Detroit Tigers game and turn it into an unforgettable experience. Whether you’re cheering for the Tigers or just there for the vibes\, Comerica Park is where luxe meets local. \nThis isn’t your typical ballgame. Start with cocktails at a downtown rooftop bar\, then stroll to the stadium for a classic matchup—Diamondbacks vs Tigers. Once inside\, you’ll find gourmet bites\, skyline views\, and a crowd that knows how to show up for Detroit. \nWhether you’re splurging on a suite or grabbing upper-deck seats\, there’s a Detroit Tigers game experience for every budget. It’s not about how much you spend—it’s about how you style your night. \nHere’s how to do game night the Luxe way: \n\n🍸 Grab drinks pre-game at The Skip\n🌇 Take golden hour photos with The Belt Alley\n⚾ Cheer from your seat with signature eats + a skyline backdrop\n✨ Wrap up with a nightcap nearby The Whisky Parlor\n\n  \nA Detroit Tigers game is more than baseball—it’s a moment. Whether it’s date night\, a solo adventure\, or something fun for the fam\, you can do it all luxe without breaking the bank. \nSee Tigers Live
URL:https://luxeinthed.com/event/catch-a-detroit-tigers-game-diamondbacks-at-tigers/
LOCATION:Comerica Park\, 2100 Woodward Ave.\, Detroit\, MI\, 48201\, United States
CATEGORIES:Family Fun,Sporting Events
ATTACH;FMTTYPE=image/jpeg:https://luxeinthed.com/wp-content/uploads/2025/07/tigers.jpg
END:VEVENT
END:VCALENDAR