BEGIN:VCALENDAR
VERSION:2.0
PRODID:-//Luxe in the D - ECPv6.15.18//NONSGML v1.0//EN
CALSCALE:GREGORIAN
METHOD:PUBLISH
X-ORIGINAL-URL:https://luxeinthed.com
X-WR-CALDESC:Events for Luxe in the D
REFRESH-INTERVAL;VALUE=DURATION:PT1H
X-Robots-Tag:noindex
X-PUBLISHED-TTL:PT1H
BEGIN:VTIMEZONE
TZID:America/Detroit
BEGIN:DAYLIGHT
TZOFFSETFROM:-0500
TZOFFSETTO:-0400
TZNAME:EDT
DTSTART:20250309T070000
END:DAYLIGHT
BEGIN:STANDARD
TZOFFSETFROM:-0400
TZOFFSETTO:-0500
TZNAME:EST
DTSTART:20251102T060000
END:STANDARD
BEGIN:DAYLIGHT
TZOFFSETFROM:-0500
TZOFFSETTO:-0400
TZNAME:EDT
DTSTART:20260308T070000
END:DAYLIGHT
BEGIN:STANDARD
TZOFFSETFROM:-0400
TZOFFSETTO:-0500
TZNAME:EST
DTSTART:20261101T060000
END:STANDARD
BEGIN:DAYLIGHT
TZOFFSETFROM:-0500
TZOFFSETTO:-0400
TZNAME:EDT
DTSTART:20270314T070000
END:DAYLIGHT
BEGIN:STANDARD
TZOFFSETFROM:-0400
TZOFFSETTO:-0500
TZNAME:EST
DTSTART:20271107T060000
END:STANDARD
END:VTIMEZONE
BEGIN:VEVENT
DTSTART;TZID=America/Detroit:20260417T183000
DTEND;TZID=America/Detroit:20260417T193000
DTSTAMP:20260415T114956
CREATED:20260330T203539Z
LAST-MODIFIED:20260330T203855Z
UID:5515-1776450600-1776454200@luxeinthed.com
SUMMARY:Candlelight: Neo-Soul Favorites
DESCRIPTION:Candlelight: Neo-Soul Favorites \nAn intimate\, candlelit concert experience featuring a live string quartet performing neo-soul favorites from Prince\, Childish Gambino\, and more inside the stunning Sanctuary Church. This is not just a concert — it’s an immersive\, sensory experience designed for elevated date nights. \n🕯 Date & Time: Multiple dates in April–May 2026\n📍 Location: Sanctuary Church Birmingham — 1300 Maple Rd\, Birmingham\, MI 48009\n🏙 Neighborhood: Birmingham\n💰 Cost: $–$$ | From $52.50\n🎟 Ticket Link: feverup.com/en/detroit/candlelight\n🛒 Where to Purchase: Fever\n🚗 Parking: Street parking available; nearby surface lots on Maple Rd; rideshare recommended\n👗 Dress Code / Vibe: Date-night elegant\, elevated dinner-party chic\n👥 Age: 8+ | Under 16 must be accompanied by an adult\n♿ Accessibility: ADA compliant\n🪑 Seating is assigned on a first come first served basis in each zone\n🕯️ If you would like to book a private concert or buy regular tickets for a large group (+30 people)\, click here\n🎻 Check out all the Candlelight concerts in Detroit \nTentative Program\nSZA – Good Days\nLauryn Hill – Ex-Factor\nSolange – Don’t Touch My Hair\nMiguel – Adorn\nFrank Ocean – Thinkin Bout You\nPrince – Purple Rain\nSade – Smooth Operator\nD’Angelo – Untitled (How Does It Feel)\nChildish Gambino – Redbone\nH.E.R. – The Best Part\nAlicia Keys – You Don’t Know My Name\nBoyz II Men – End of the Road \nPerformers\nListeso String Quartet
URL:https://luxeinthed.com/event/candlelight-neo-soul/
LOCATION:Sanctuary Church Birmingham\, 1300 Maple Rd\,\, Birmingham\, MI\, 48009\, United States
CATEGORIES:Arts & Culture,Concert,Nightlife,The Culture Code
ATTACH;FMTTYPE=image/png:https://luxeinthed.com/wp-content/uploads/2026/03/Candlight-Concert-Series.png
END:VEVENT
BEGIN:VEVENT
DTSTART;TZID=America/Detroit:20260508T204500
DTEND;TZID=America/Detroit:20260508T214500
DTSTAMP:20260415T114956
CREATED:20260330T203800Z
LAST-MODIFIED:20260330T204016Z
UID:5524-1778273100-1778276700@luxeinthed.com
SUMMARY:Candlelight: Neo-Soul Favorites
DESCRIPTION:Candlelight: Neo-Soul Favorites \nAn intimate\, candlelit concert experience featuring a live string quartet performing neo-soul favorites from Prince\, Childish Gambino\, and more inside the stunning Sanctuary Church. This is not just a concert — it’s an immersive\, sensory experience designed for elevated date nights. \n🕯 Date & Time: Multiple dates in April–May 2026\n📍 Location: Sanctuary Church Birmingham — 1300 Maple Rd\, Birmingham\, MI 48009\n🏙 Neighborhood: Birmingham\n💰 Cost: $–$$ | From $52.50\n🎟 Ticket Link: feverup.com/en/detroit/candlelight\n🛒 Where to Purchase: Fever\n🚗 Parking: Street parking available; nearby surface lots on Maple Rd; rideshare recommended\n👗 Dress Code / Vibe: Date-night elegant\, elevated dinner-party chic\n👥 Age: 8+ | Under 16 must be accompanied by an adult\n♿ Accessibility: ADA compliant\n🪑 Seating is assigned on a first come first served basis in each zone\n🕯️ If you would like to book a private concert or buy regular tickets for a large group (+30 people)\, click here\n🎻 Check out all the Candlelight concerts in Detroit \nTentative Program\nSZA – Good Days\nLauryn Hill – Ex-Factor\nSolange – Don’t Touch My Hair\nMiguel – Adorn\nFrank Ocean – Thinkin Bout You\nPrince – Purple Rain\nSade – Smooth Operator\nD’Angelo – Untitled (How Does It Feel)\nChildish Gambino – Redbone\nH.E.R. – The Best Part\nAlicia Keys – You Don’t Know My Name\nBoyz II Men – End of the Road \nPerformers\nListeso String Quartet
URL:https://luxeinthed.com/event/candlelight-neo-soul-favorites/
LOCATION:Sanctuary Church Birmingham\, 1300 Maple Rd\,\, Birmingham\, MI\, 48009\, United States
CATEGORIES:Arts & Culture,Concert,Nightlife,The Culture Code
ATTACH;FMTTYPE=image/png:https://luxeinthed.com/wp-content/uploads/2026/03/Candlight-Concert-Series.png
END:VEVENT
BEGIN:VEVENT
DTSTART;TZID=America/Detroit:20260509T190000
DTEND;TZID=America/Detroit:20260509T230000
DTSTAMP:20260415T114956
CREATED:20260402T220622Z
LAST-MODIFIED:20260403T005349Z
UID:5669-1778353200-1778367600@luxeinthed.com
SUMMARY:Bruno Mars — The Romantic Tour Detroit
DESCRIPTION:Bruno Mars brings his highly anticipated Romantic Tour to Ford Field for a stadium-level experience that blends high-energy performance with signature showmanship. With a setlist of global hits and a fully immersive production\, this is easily one of Detroit’s biggest concerts of the year. \nWith Anderson .Paak as DJ Pee .Wee and Leon Thomas opening\, the night delivers a full lineup from start to finish—perfect for a dressed-up\, high-energy night out in downtown Detroit. \nEvent Details📅 Date: May 9\, 2026⏰ Doors: 6:00 PM | Show: 7:00 PM📍 Location: Ford Field — Downtown Detroit💰 Tickets: Starting around $195+ (plus taxes & fees)🎟 Get Tickets: Get Tickets Today \n🚗 Parking\nDowntown garages start around $20–$50+\, with premium and close-access options increasing for major stadium events.\nFord Field Parking Deck and surrounding lots are available. Rideshare strongly recommended. \n♿ Accessibility (ADA)\nADA parking is available in the Ford Field Parking Deck on a first-come\, first-served basis. Wheelchairs are available at Guest Services locations inside each entrance for assistance. \nAmerican Sign Language (ASL) interpreting services may be available upon request. After purchasing tickets\, please email guest.services@lions.nfl.net\nat least three weeks in advance of the event. \nAmerican Sign Language (ASL) interpreting services may be available upon request. After purchasing \n🔗 Browse More Events\n👉 https://luxeinthed.com/events
URL:https://luxeinthed.com/event/bruno-mars-detroit-2026/
LOCATION:Ford Field\, 2000 Brush St.\, Detroit\, MI\, 48226\, United States
CATEGORIES:Concert,Live Music,The Culture Code
ATTACH;FMTTYPE=image/png:https://luxeinthed.com/wp-content/uploads/2026/04/Bruno-Mars.png
END:VEVENT
BEGIN:VEVENT
DTSTART;TZID=America/Detroit:20260510T190000
DTEND;TZID=America/Detroit:20260510T230000
DTSTAMP:20260415T114956
CREATED:20260403T005644Z
LAST-MODIFIED:20260403T010341Z
UID:5692-1778439600-1778454000@luxeinthed.com
SUMMARY:Bruno Mars — The Romantic Tour Detroit
DESCRIPTION:Bruno Mars brings his highly anticipated Romantic Tour to Ford Field for a stadium-level experience that blends high-energy performance with signature showmanship. With a setlist of global hits and a fully immersive production\, this is easily one of Detroit’s biggest concerts of the year. \nWith Anderson .Paak as DJ Pee .Wee and Leon Thomas opening\, the night delivers a full lineup from start to finish—perfect for a dressed-up\, high-energy night out in downtown Detroit. \nEvent Details📅 Date: May 10\, 2026⏰ Doors: 6:00 PM | Show: 7:00 PM📍 Location: Ford Field — Downtown Detroit💰 Tickets: Starting around $195+ (plus taxes & fees)🎟 Get Tickets: Get Tickets Today \n🚗 Parking\nDowntown garages start around $20–$50+\, with premium and close-access options increasing for major stadium events.\nFord Field Parking Deck and surrounding lots are available. Rideshare strongly recommended. \n♿ Accessibility (ADA)\nADA parking is available in the Ford Field Parking Deck on a first-come\, first-served basis. Wheelchairs are available at Guest Services locations inside each entrance for assistance. \nAmerican Sign Language (ASL) interpreting services may be available upon request. After purchasing tickets\, please email guest.services@lions.nfl.net\nat least three weeks in advance of the event. \nAmerican Sign Language (ASL) interpreting services may be available upon request. After purchasing \n🔗 Browse More Events\n👉 https://luxeinthed.com/events
URL:https://luxeinthed.com/event/bruno-mars-the-romantic-tour-detroit/
LOCATION:Ford Field\, 2000 Brush St.\, Detroit\, MI\, 48226\, United States
CATEGORIES:Concert,Live Music,The Culture Code
ATTACH;FMTTYPE=image/png:https://luxeinthed.com/wp-content/uploads/2026/04/Bruno-Mars.png
END:VEVENT
BEGIN:VEVENT
DTSTART;TZID=America/Detroit:20260521T183000
DTEND;TZID=America/Detroit:20260521T193000
DTSTAMP:20260415T114956
CREATED:20260330T210612Z
LAST-MODIFIED:20260330T211423Z
UID:5529-1779388200-1779391800@luxeinthed.com
SUMMARY:Candlelight: Tribute to Fleetwood Mac
DESCRIPTION:Candlelight: Tribute to Fleetwood Mac\nExperience a candlelit tribute to Fleetwood Mac at The War Memorial\, where a live string quartet performs iconic hits in an intimate\, glowing setting. This 60-minute concert blends nostalgia\, elegance\, and romance—perfect for a luxe date night or elevated evening out. \n🕯 Date & Time: Multiple dates in April–May 2026\n📍 Location: The War Memorial — 32 Lake Shore Dr\, Grosse Pointe Farms\, 48236\n🏙 Neighborhood: Birmingham\n💰 Cost: $–$$ | From $39.00\n🎟 Ticket Link: feverup.com/en/detroit/candlelight\n🛒 Where to Purchase: Fever\n🚗 Parking: Free on-site parking available at The War Memorial (arrive early for best access).\n👗 Dress Code / Vibe: Date-night elegant\, elevated dinner-party chic\n👥 Age: 8+ | Under 16 must be accompanied by an adult\n♿ Accessibility: ADA compliant\n🪑 Seating is assigned on a first come first served basis in each zone\n🕯️ If you would like to book a private concert or buy regular tickets for a large group (+30 people)\, click here\n🎻 Check out all the Candlelight concerts in Detroit \nTentative Program\nEverywhere\nGypsy\nYou Make Loving Fun\nNever Going Back Again\nDon’t Stop\nGold Dust Woman\nGo Your Own Way\nLandslide\nLittle Lies\nSongbird\nRhiannon\nThe Chain \nPerformers\nListeso String Quartet
URL:https://luxeinthed.com/event/candlelight-tribute-to-fleetwood-mac-2/
LOCATION:The War Memorial\, 32 Lake Shore Dr\, Grosse Pointe Farms\, 48236\, United States
CATEGORIES:Arts & Culture,Concert,Nightlife,The Culture Code
ATTACH;FMTTYPE=image/png:https://luxeinthed.com/wp-content/uploads/2026/03/Candlight-Concert-Series.png
END:VEVENT
BEGIN:VEVENT
DTSTART;TZID=America/Detroit:20260806T173000
DTEND;TZID=America/Detroit:20260806T210000
DTSTAMP:20260415T114956
CREATED:20260403T014403Z
LAST-MODIFIED:20260403T035012Z
UID:5699-1786037400-1786050000@luxeinthed.com
SUMMARY:FOO FIGHTERS — TAKE COVER TOUR 2026
DESCRIPTION:Foo Fighters bring their Take Cover Tour to Ford Field for a full-scale stadium rock experience. Known for explosive live performances and decades of anthems\, the band delivers a high-energy show packed with fan favorites\, deep cuts\, and new music from their latest era. \nWith special guests including Queens of the Stone Age and Mannequin Pussy\, the night builds from start to finish into a massive\, crowd-driven experience—making this one of Detroit’s biggest rock events of 2026. \nEvent Details \n📅 Date: Thursday\, August 6\, 2026\n⏰ Time: 5:30 PM\n📍 Location: Ford Field — Downtown Detroit\n💰 Tickets: Starting around $87+ (plus taxes & fees)\n🎟 Get Tickets \n🚗 Parking\nDowntown garages start around $20–$50+\, with premium and close-access options increasing for major stadium events.\nFord Field Parking Deck and surrounding lots are available. Rideshare strongly recommended. \n♿ Accessibility (ADA)\nADA parking is available in the Ford Field Parking Deck on a first-come\, first-served basis. Wheelchairs are available at Guest Services locations inside each entrance for assistance. \nAmerican Sign Language (ASL) interpreting services may be available upon request. After purchasing tickets\, please email guest.services@lions.nfl.net\nat least three weeks in advance of the event. \n🔗 Browse More Events\n👉 https://luxeinthed.com/events
URL:https://luxeinthed.com/event/foo-fighters-detroit-2026/
LOCATION:Ford Field\, 2000 Brush St.\, Detroit\, MI\, 48226\, United States
CATEGORIES:Concert,Live Music,The Culture Code
ATTACH;FMTTYPE=image/png:https://luxeinthed.com/wp-content/uploads/2026/04/Foo-Fighters.png
END:VEVENT
END:VCALENDAR