BEGIN:VCALENDAR
VERSION:2.0
PRODID:-//Luxe in the D - ECPv6.15.18//NONSGML v1.0//EN
CALSCALE:GREGORIAN
METHOD:PUBLISH
X-WR-CALNAME:Luxe in the D
X-ORIGINAL-URL:https://luxeinthed.com
X-WR-CALDESC:Events for Luxe in the D
REFRESH-INTERVAL;VALUE=DURATION:PT1H
X-Robots-Tag:noindex
X-PUBLISHED-TTL:PT1H
BEGIN:VTIMEZONE
TZID:America/Detroit
BEGIN:DAYLIGHT
TZOFFSETFROM:-0500
TZOFFSETTO:-0400
TZNAME:EDT
DTSTART:20240310T070000
END:DAYLIGHT
BEGIN:STANDARD
TZOFFSETFROM:-0400
TZOFFSETTO:-0500
TZNAME:EST
DTSTART:20241103T060000
END:STANDARD
BEGIN:DAYLIGHT
TZOFFSETFROM:-0500
TZOFFSETTO:-0400
TZNAME:EDT
DTSTART:20250309T070000
END:DAYLIGHT
BEGIN:STANDARD
TZOFFSETFROM:-0400
TZOFFSETTO:-0500
TZNAME:EST
DTSTART:20251102T060000
END:STANDARD
BEGIN:DAYLIGHT
TZOFFSETFROM:-0500
TZOFFSETTO:-0400
TZNAME:EDT
DTSTART:20260308T070000
END:DAYLIGHT
BEGIN:STANDARD
TZOFFSETFROM:-0400
TZOFFSETTO:-0500
TZNAME:EST
DTSTART:20261101T060000
END:STANDARD
END:VTIMEZONE
BEGIN:VTIMEZONE
TZID:UTC
BEGIN:STANDARD
TZOFFSETFROM:+0000
TZOFFSETTO:+0000
TZNAME:UTC
DTSTART:20240101T000000
END:STANDARD
END:VTIMEZONE
BEGIN:VEVENT
DTSTART;TZID=America/Detroit:20251010T180000
DTEND;TZID=America/Detroit:20251010T203000
DTSTAMP:20260417T034332
CREATED:20251008T163523Z
LAST-MODIFIED:20251008T225337Z
UID:4620-1760119200-1760128200@luxeinthed.com
SUMMARY:Halloween Hoopla – Macomb Township 2025
DESCRIPTION:Macomb Township’s ultimate family Halloween party — full of costumes\, carnival games\, and candy galore! \nHalloween Hoopla 2025 is Macomb Township’s can’t-miss family Halloween celebration — a lively night filled with costumes\, carnival games\, and trick-or-treating for kids of all ages. Hosted inside the Macomb Township Recreation Center\, this cheerful event delivers all the excitement of Halloween without the fright. \nFamilies are invited to dress up and enjoy an evening of safe\, indoor fun complete with themed activities\, photo stations\, and a community Trick-or-Treat Trail featuring dozens of local businesses and organizations. From bounce houses and crafts to face painting and giveaways\, there’s something for everyone at this fang-tastic community event. \nThe Trick-or-Treat Trail is a highlight\, featuring community partners like Bubba’s 33\, Buddy’s Pizza\, Camp Bow Wow\, Macomb Fire Department\, and the Clinton-Macomb Public Library\, all handing out candy and goodies along a decorated indoor route. \n📍 Location: Macomb Township Recreation Center\, 20699 Macomb Street\, Macomb\, MI 48042\n🧛‍♀️ Theme: Family Costume Carnival / Community Trick-or-Treat\n🍸 Drinks & Treats: Complimentary cider\, cocoa\, and light refreshments available\n🅿️ Parking: Free on-site parking\n🎭 Dress Code: Costumes encouraged for all ages\n🎟️ Ticket Price Range: $7 (Residents under 18) · $10 (Non-Residents 18+)\n🕯️ Event Details: Indoor event; advance ticket purchase required — no on-site sales\n👤 Ages: Ideal for families with children ages 3–12\n♿ Accessibility: Fully ADA accessible; stroller and wheelchair friendly \n✨ Explore More: Family-Friendly Fall Events on Luxe in the D \nThis festive community tradition brings together families\, neighbors\, and local businesses for a safe\, spirited Halloween celebration that kids will remember all season long. \nPurchase tickets today!Explore more Family-Friendly Events on Luxe in the D.
URL:https://luxeinthed.com/event/halloween-hoopla-macomb-township-2025/
LOCATION:Macomb Township Recreation Center\, 20699 Macomb Street\, Macomb\, MI\, 48042\, United States
CATEGORIES:Carnival,Family Fun,Seasonal Event
ATTACH;FMTTYPE=image/png:https://luxeinthed.com/wp-content/uploads/2025/10/Events-Photos-4.png
END:VEVENT
BEGIN:VEVENT
DTSTART;TZID=UTC:20250801T120000
DTEND;TZID=UTC:20250803T223000
DTSTAMP:20260417T034332
CREATED:20250526T004925Z
LAST-MODIFIED:20250719T133700Z
UID:1522-1754049600-1754260200@luxeinthed.com
SUMMARY:Dearborn Homecoming Festival 2025: Carnival\, Fireworks & Family Fun
DESCRIPTION:Join the city of Dearborn for its signature summer celebration — the Dearborn Homecoming Festival\, taking place August 2–4\, 2025 at Ford Field Park. From fireworks and food trucks to cultural experiences and carnival rides\, this beloved annual event brings the community together for an unforgettable weekend of fun. Admission is free and open to all ages! \nFestival Highlights \n\n🎇 Fireworks Show: A breathtaking fireworks display to close out the night\n🎡 Carnival Rides: Thrilling attractions for all ages (wristbands required)\n🍔 Food Truck Corridor: Savor delicious eats from local favorites. See the full list here!\n🛍️ Vendor Village: Browse artisan goods and community resources\n🎭 Cultural Experiences: Celebrate Dearborn’s rich and diverse heritage\n🎤 Live Entertainment: Music\, dance\, and family-friendly performances. See the full lineup here!\n👶 Kids Stage & Activities: Games\, shows\, and interactive fun for children. See the full schedule here!\n\n  \n🎟️ Tickets & Wristbands\nEnjoy unlimited carnival rides with a wristband purchase: \n\nGeneral entry is free! (Fees apply for food\, rides\, and select attractions.)\nPre-Sale: $25 (available online through July 31)\nOn-Site: $35 per day\nNote: A $2 Fair Pass activation fee applies to all wristband purchases\n\nBuy wristbands and view full ticket info → \n  \n🚗 Parking & Shuttle Info \n\nOn-Site Parking: $10 at Ford Field Park (no re-entry)\, handicap accessible parking available in this lot.\nFree SMART Shuttle Service runs daily from 12:00 PM–11:30 PM with pickups at:\nDearborn High School (19501 W Outer Dr)\nDearborn Fresh Market (13661 Colson St)
URL:https://luxeinthed.com/event/dearborn-homecoming-festival-2025/
LOCATION:Ford Field Park\, 22051 Cherry Hill St.\, Dearborn\, MI\, 48124\, United States
CATEGORIES:Carnival,Family Fun,Festivals,Live Music
ATTACH;FMTTYPE=image/jpeg:https://luxeinthed.com/wp-content/uploads/2025/05/Dearbornhomecoming.jpeg
END:VEVENT
BEGIN:VEVENT
DTSTART;TZID=America/Detroit:20250724T100000
DTEND;TZID=America/Detroit:20250726T230000
DTSTAMP:20260417T034332
CREATED:20250719T125744Z
LAST-MODIFIED:20250721T174459Z
UID:3808-1753351200-1753570800@luxeinthed.com
SUMMARY:Sterlingfest 2025
DESCRIPTION:Sterlingfest 2025: Art\, Music & Carnival Fun in Sterling Heights\nSterlingfest 2025 returns to Sterling Heights from July 24–26 for three exciting days of free family-friendly fun. This popular Metro Detroit event features live music\, local art\, carnival rides\, food vendors\, and a community 5K. Whether you’re planning a date night\, bringing the kids\, or visiting from out of town\, there’s something for everyone to enjoy at Sterlingfest. \n🎶 Event Highlights \n\nLive Performances: Music across multiple stages all weekend\nSterlingfest Midway: Carnival rides\, games\, and thrill attractions (ride wristbands sold separately).\n\nMidway Policies: Designated entry/exit points enforced. After 8 p.m.\, minors (17 and under) must be with an adult (25+) if not wearing a wristband. Masks are not permitted.\n\n\nArt Fair: Discover handmade crafts and local artwork\nKids Tent: Magic shows\, bubble play\, interactive fun\, live shows\, and more. See the full schedule here! \nFood Vendors: Savor delicious bites from Metro Detroit eateries (vegan option available). See the full list here!\nSterlingFAST 5K Race: Participate in a scenic\, family-friendly run. Race day registration is $40\, shirts may be limited. Get more SterlingFAST 5k information here!\n\n  \n🎟 Admission & Ride Passes \n\nGeneral Admission: Free\n1-Day Unlimited Ride Armband: $31.25 presale ($36 at event)\n3-Day Mega Pass: $76.99 presale\nPurchase wristbands and passes here.\n\n  \n🚗 Getting to Sterlingfest 2025\nSterlingfest 2025 in Sterling Heights is easy to access with free parking\, shuttles\, and ADA support. \n\nFree Parking: Available near the festival:  suggested donation: $5 per vehicle (Venmo accepted)\nADA Parking: Limited spots with permit near the Senior Center and Library\nCourtesy carts available to assist guests throughout the grounds\nFree Shuttles: Run daily from 9:45 AM–Midnight. Suggested donation: $1 per rider (Venmo accepted)\nRide Share: Uber/Lyft drop-off only at Stevenson High via northbound Dodge Park Rd.\nParking Restrictions: One-side-only street parking July 24–26. Violators may be ticketed or towed.\n\n🔗 View full parking info →
URL:https://luxeinthed.com/event/sterlingfest-2025-sterling-heights/
LOCATION:Dodge Park\, 40620 Utica Road\, Sterling Heights\, MI\, 48313\, United States
CATEGORIES:Carnival,Family Fun,Festivals,Live Music
ATTACH;FMTTYPE=image/png:https://luxeinthed.com/wp-content/uploads/2025/07/Sterling-Fest.png
END:VEVENT
BEGIN:VEVENT
DTSTART;TZID=UTC:20250624T160000
DTEND;TZID=UTC:20250629T230000
DTSTAMP:20260417T034332
CREATED:20250526T013741Z
LAST-MODIFIED:20250526T014329Z
UID:1558-1750780800-1751238000@luxeinthed.com
SUMMARY:2025 Livonia Spree
DESCRIPTION:Join the Livonia community for an unforgettable night as the Livonia Spree Fireworks light up the sky! This family-friendly event is the perfect way to end a summer weekend\, featuring a spectacular fireworks display that will leave you in awe. With a vibrant atmosphere and fun for all ages\, it’s a night you won’t want to miss. Come for the fireworks\, stay for the memories! \nCarnival Rides & Wristbands: \nOperating Hours: \n\nTuesday\, June 24: 4:00 PM – 11:00 PM\nWednesday – Friday\, June 25–27: 2:00 PM – 11:00 PM\nSaturday\, June 28: 12:00 PM – 11:00 PM\nSunday\, June 29: 12:00 PM – 11:00 PM\nWristband Pricing:\n\nAdvance Purchase: $25 (plus a $2.75 fee)\, valid for one day (excluding Sunday).\nOn-Site Purchase: $35 per day.\n\n\nPurchase Advanced Tickets: Innovative Ticketing\n\nHeight Restrictions: Wristbands are not recommended for children under 36 inches due to limited ride options. Parents with children under 48 inches should review ride height requirements at Wade Shows before purchasing. \nAdmission: Free! (Fees apply for rides\, food\, and select activities) \nAdditional Events: Live Music | Kids Tent Activities: Petting farm\, pig races\, duck races\, foam party\, and variety shows and more!  \nParking & Shuttle Service \n\nParking Location: Livonia City Hall (33000 Civic Center Dr\, Livonia\, MI).\nShuttle Service: Complimentary shuttles will transport attendees between the parking area and Ford Field throughout the event
URL:https://luxeinthed.com/event/livonia-spree-fireworks/
LOCATION:Ford Field – Livonia\, 33841 Lyndon St.\, Livonia\, MI\, 48154\, United States
CATEGORIES:Carnival,Family Fun,Festivals,Fireworks
END:VEVENT
BEGIN:VEVENT
DTSTART;TZID=UTC:20250618T150000
DTEND;TZID=UTC:20250622T190000
DTSTAMP:20260417T034332
CREATED:20250528T034950Z
LAST-MODIFIED:20250528T035104Z
UID:1605-1750258800-1750618800@luxeinthed.com
SUMMARY:2025 Bay-Rama Fishfly Festival
DESCRIPTION:Celebrate summer at the Bay-Rama Fishfly Festival in New Baltimore\, MI on June 22nd! This beloved local tradition brings together live music\, delicious food\, and handmade crafts at one of Michigan’s most popular festivals. From traditional Polish pierogi to unique artisanal creations\, there’s something for everyone. This vibrant event is perfect for families\, foodies\, and art lovers alike—come and immerse yourself in the fun! \nGeneral Admission: Free to attend\, including many family-friendly activities such as the parade\, kids’ games\, and fireworks display. \nFestival Tent (Evening Entertainment): There is a $5 cover charge to enter the Festival Tent after 7 PM on Thursday\, Friday\, and Saturday.Please note that no one under 21 is allowed in the tent during these hours \nCarnival Rides: Unlimited ride wristbands are available for $30 and can be purchased online or at the event. These wristbands are valid for unlimited rides on a single day. Additionally\, a $5 discount is available on Wednesday\, June 18\, with a printable coupon from the festival’s website. \n\n\n\n\n\n\n\n\n\nCheck out the full event schedule here for detailed times and activities.
URL:https://luxeinthed.com/event/2025-bay-rama-fishfly-festival/
LOCATION:Walter and Mary Burke Park\, 35091 23 Mile Rd.\, New Baltimore\, MI\, 48047\, United States
CATEGORIES:Carnival,Family Fun,Festivals,Fireworks,Live Music
END:VEVENT
END:VCALENDAR